BEGIN:VCALENDAR
VERSION:2.0
PRODID:-//ChamberMaster//Event Calendar 2.0//EN
METHOD:PUBLISH
X-PUBLISHED-TTL:P3D
REFRESH-INTERVAL:P3D
CALSCALE:GREGORIAN
BEGIN:VEVENT
DTSTART:20220205T010000Z
DTEND:20220205T030000Z
X-MICROSOFT-CDO-ALLDAYEVENT:FALSE
SUMMARY:The MadHatters
DESCRIPTION:The MadHatters\n\nFriday\, February 4th\, 2022 7pm\n\n$15/Adults\, $10/Students\n\nat the Sauk Prairie River Arts Center (105-9th Street\, Prairie du Sac)\n\nThe MadHatters began in 1997\, as the first a cappella on the UW campus. The musical prowess of the MadHatters has taken them to sometimes unbelievable heights. From performing at the UW Band Concert\, to singing at Miller Park\, the Governor's Mansion\, Lambeau field\, and the White House (twice!)\, the MadHatters have performed at places that most college students can only dream of. Their repertoire ranges from oldies to top 40 and everything between!
X-ALT-DESC;FMTTYPE=text/html:<p><strong>The MadHatters</strong></p>\n\n<p><strong>Friday\, February 4th\, 2022 7pm</strong></p>\n\n<p><strong>$15/Adults\, $10/Students</strong></p>\n\n<p><strong>at the Sauk Prairie River Arts Center (105-9th Street\, Prairie du Sac)</strong></p>\n\n<p>The MadHatters began in 1997\, as the first a cappella on the UW campus. The musical prowess of the MadHatters has taken them to sometimes unbelievable heights. From performing at the UW Band Concert\, to singing at Miller Park\, the Governor&rsquo\;s Mansion\, Lambeau field\, and the White House (twice!)\, the MadHatters have performed at places that most college students can only dream of. Their repertoire ranges from oldies to top 40 and everything between!</p>\n
LOCATION:at the Sauk Prairie River Arts Center (105-9th Street\, Prairie du Sac)
UID:e.1184.26910
SEQUENCE:3
DTSTAMP:20260421T160209Z
URL:http://members.saukprairie.com/events/details/the-madhatters-26910
END:VEVENT

END:VCALENDAR
