BEGIN:VCALENDAR
VERSION:2.0
PRODID:-//ChamberMaster//Event Calendar 2.0//EN
METHOD:PUBLISH
X-PUBLISHED-TTL:P3D
REFRESH-INTERVAL:P3D
CALSCALE:GREGORIAN
BEGIN:VEVENT
DTSTART:20230910T000000Z
DTEND:20230910T020000Z
X-MICROSOFT-CDO-ALLDAYEVENT:FALSE
SUMMARY:The Mascot Theory at Leola Hall
DESCRIPTION:The Mascot Theory\n\nSaturday\, September 9\, 2023 7pm\n\n$20\n\nat Leola Hall at the Sauk Prairie River Arts Center (105-9th Street\, Prairie du Sac)\n\nThe Mascot Theory sound has roots in the Americana genre\, but the new music heavily leans into its classic rock-inspired influences\; harmonies that bring to mind the Eagles or America\, a bit of that Rolling Stones guitar swagger\, a little ZZ Top blues rock\, a dash of the Pink Floyd mood\, but never straying far from the core of the Tom Petty/Beatles/Poco-esque importance of solid melody and lyrics. And with just a tiny hint of Neil Diamond in the lead vocal for good measure.
X-ALT-DESC;FMTTYPE=text/html:<p><strong>The Mascot Theory</strong></p>\n\n<p><strong>Saturday\, September 9\, 2023 7pm</strong></p>\n\n<p>$20</p>\n\n<p><strong>at Leola Hall at the Sauk Prairie River Arts Center (105-9th Street\, Prairie du Sac)</strong></p>\n\n<p>The Mascot Theory sound has roots in the Americana genre\, but the new music heavily leans into its classic rock-inspired influences\; harmonies that bring to mind the Eagles or America\, a bit of that Rolling Stones guitar swagger\, a little ZZ Top blues rock\, a dash of the Pink Floyd mood\, but never straying far from the core of the Tom Petty/Beatles/Poco-esque importance of solid melody and lyrics. And with just a tiny hint of Neil Diamond in the lead vocal for good measure.<br />\n<br />\n&nbsp\;</p>\n
LOCATION:105 9th St\, Prairie du Sac\, WI
UID:e.1184.30983
SEQUENCE:3
DTSTAMP:20260420T074111Z
URL:http://members.saukprairie.com/events/details/the-mascot-theory-at-leola-hall-30983
END:VEVENT

END:VCALENDAR
