BEGIN:VCALENDAR
VERSION:2.0
PRODID:-//ChamberMaster//Event Calendar 2.0//EN
METHOD:PUBLISH
X-PUBLISHED-TTL:P3D
REFRESH-INTERVAL:P3D
CALSCALE:GREGORIAN
BEGIN:VEVENT
DTSTART:20240806T130000Z
DTEND:20240806T143000Z
X-MICROSOFT-CDO-ALLDAYEVENT:FALSE
SUMMARY:The Morning Blend
DESCRIPTION:Wake up and join us for coffee and conversation on the 1st Tuesday of each month\, from 8:00 - 9:30 am. This is an opportunity for members to connect with other members and learn about community happenings.
X-ALT-DESC;FMTTYPE=text/html:Wake up and join us for coffee and conversation on the 1st Tuesday of each month\, from 8:00 - 9:30 am. This is an opportunity for members to connect with other members and learn about community happenings.&nbsp\;
LOCATION:6:8 Inc. 821 Industry Rd. Sauk City
UID:e.1184.31401
SEQUENCE:3
DTSTAMP:20260419T175134Z
URL:http://members.saukprairie.com/events/details/the-morning-blend-31401
END:VEVENT

END:VCALENDAR
