BEGIN:VCALENDAR
VERSION:2.0
PRODID:-//ChamberMaster//Event Calendar 2.0//EN
METHOD:PUBLISH
X-PUBLISHED-TTL:P3D
REFRESH-INTERVAL:P3D
CALSCALE:GREGORIAN
BEGIN:VEVENT
DTSTART:20161218T200000Z
DTEND:20161218T220000Z
X-MICROSOFT-CDO-ALLDAYEVENT:FALSE
SUMMARY:The Neophonic Jazz Orchestra: A Big Band Christmas
DESCRIPTION:Featuring jazzy excerpts from the Nutcracker and many other holiday favorites like Rudolph the Red Nosed Reindeer\, Santa Claus is Coming to Town\, Jingle Bells\, We Wish You a Merry Little Christmas\, Winder Wonderland\,There's No Place Like Home for the Holidays\, I've Got My Love to Keep Me Warm\, and What Are You Doing New Years all performed by a full orchestra.  Featuring guest artist Angela Babler on vocals.\n\n\n\nwww.riverartsinc.org
X-ALT-DESC;FMTTYPE=text/html:Featuring jazzy excerpts from the Nutcracker and many other holiday&nbsp\;favorites like Rudolph the Red Nosed Reindeer\, Santa Claus is Coming to Town\,&nbsp\;Jingle Bells\, We Wish You a Merry Little Christmas\, Winder Wonderland\,There&#39\;s No Place Like Home for the Holidays\, I&#39\;ve Got My Love to Keep Me&nbsp\;Warm\, and What Are You Doing New Years&nbsp\;all performed by a full orchestra. &nbsp\;Featuring guest artist Angela Babler on vocals.<br />\n<br />\nwww.riverartsinc.org
LOCATION:River Arts Center\, 105 9th St. Prairie du Sac
UID:e.1184.8533
SEQUENCE:3
DTSTAMP:20260425T142245Z
URL:http://members.saukprairie.com/events/details/the-neophonic-jazz-orchestra-a-big-band-christmas-12-18-2016-8533
END:VEVENT

END:VCALENDAR
