BEGIN:VCALENDAR
VERSION:2.0
PRODID:-//ChamberMaster//Event Calendar 2.0//EN
METHOD:PUBLISH
X-PUBLISHED-TTL:P3D
REFRESH-INTERVAL:P3D
CALSCALE:GREGORIAN
BEGIN:VEVENT
DTSTART:20241116T010000Z
DTEND:20241116T020000Z
X-MICROSOFT-CDO-ALLDAYEVENT:FALSE
SUMMARY:The Nunnery
DESCRIPTION:The Nunnery\n\nFriday\, November 15th\, 2024\, at 7pm\n\nat River Arts on Water (590 Water St\, downtown Prairie du Sac)\n\n$15\n\nThe Nunnery is the solo project of Sarah Elstran who is an independent musician that bridges the gap between bright-eyed pop composition and hands-on atmospheric live layering of voice. Her vocal loops give us the kind of detail and wide multi-octave range that we might come to expect from a marquee pop star\, while her production decisions continually keep us guessing as to what rabbit holes her tracks might fall into next.
X-ALT-DESC;FMTTYPE=text/html:<p><strong>The Nunnery</strong></p>\n\n<p><strong>Friday\, November 15th\, 2024\, at 7pm</strong></p>\n\n<p><strong>at River Arts on Water&nbsp\;</strong>(590 Water St\, downtown Prairie du Sac)</p>\n\n<p>$15</p>\n\n<p>The Nunnery is the solo project of Sarah Elstran who is an independent musician that bridges the gap between bright-eyed pop composition and hands-on atmospheric live layering of voice. Her vocal loops give us the kind of detail and wide multi-octave range that we might come to expect from a marquee pop star\, while her production decisions continually keep us guessing as to what rabbit holes her tracks might fall into next.</p>\n
LOCATION:River Arts on Water
UID:e.1184.33454
SEQUENCE:3
DTSTAMP:20260419T130901Z
URL:http://members.saukprairie.com/events/details/the-nunnery-33454
END:VEVENT

END:VCALENDAR
