BEGIN:VCALENDAR
VERSION:2.0
PRODID:-//ChamberMaster//Event Calendar 2.0//EN
METHOD:PUBLISH
X-PUBLISHED-TTL:P3D
REFRESH-INTERVAL:P3D
CALSCALE:GREGORIAN
BEGIN:VEVENT
DTSTART:20241107T140000Z
DTEND:20241107T210000Z
X-MICROSOFT-CDO-ALLDAYEVENT:FALSE
SUMMARY:The Nutman Company at Sauk Prairie Hospital
DESCRIPTION:The Friends of Sauk Prairie Healthcare are sponsoring a fundraiser featuring The Nutman Company on Thursday\, November 7\, 2024 from 8 a.m. to 3 p.m. Stop by the Sauk Prairie Hospital lobby (260 26th St.\, Prairie du Sac) to shop The Nutman Company's 200 fine quality nuts\, chocolates\, snack mixes\, and candies. This is a perfect opportunity to buy gifts or satisfy your sweet tooth!\n\n\n\nProceeds from the sale benefit the Friends' mission to support special hospital and clinic needs.
X-ALT-DESC;FMTTYPE=text/html:The Friends of Sauk Prairie Healthcare are sponsoring a fundraiser featuring The Nutman Company on Thursday\, November 7\, 2024 from 8 a.m. to 3 p.m. Stop by the Sauk Prairie Hospital lobby (260 26th St.\, Prairie du Sac) to shop The Nutman Company&#39\;s 200 fine quality nuts\, chocolates\, snack mixes\, and candies. This is a perfect opportunity to buy gifts or satisfy your sweet tooth!<br />\n<br />\nProceeds from the sale benefit the Friends&#39\; mission to support special hospital and clinic needs.
LOCATION:Sauk Prairie Hospital Lobby
UID:e.1184.34359
SEQUENCE:3
DTSTAMP:20260419T132231Z
URL:http://members.saukprairie.com/events/details/the-nutman-company-at-sauk-prairie-hospital-34359
END:VEVENT

END:VCALENDAR
