BEGIN:VCALENDAR
VERSION:2.0
PRODID:-//ChamberMaster//Event Calendar 2.0//EN
METHOD:PUBLISH
X-PUBLISHED-TTL:P3D
REFRESH-INTERVAL:P3D
CALSCALE:GREGORIAN
BEGIN:VEVENT
DTSTART:20240214T220000Z
DTEND:20240215T030000Z
X-MICROSOFT-CDO-ALLDAYEVENT:FALSE
SUMMARY:The Old Schoolhouse-Valentine's Dinner
DESCRIPTION:Valentine's Day Dinner @ The Old Schoolhouse in Merrimac\n\nWednesday\, February 14th\, 2024 4pm-9pm\n\n\n\nStarter to Share\n\n\n	\n	Surf and Turf Crostini Platter\n	\n	\n	Bruschetta\n	\n	\n	Tenderloin Bites\n	\n	\n	Mussels\n	\n	\n	Candied Bacon\n	\n	\n	Prepared Sauces\n	\n\n\nGreens\n\n\n	\n	Chopped Arugula and Romaine\, tomato\, red onion\, crouton crumble with house maple dijon drizzle\n	\n\n\nEntrees for Each\n\n\n	\n	Tenderloin Medallion atop Lobster Manicotti\n	\n	\n	Herb Crusted Crab Stuffed Tilapia\n	\n\n\nSides\n\n\n	\n	Bourbon Glazed Carrots\n	\n	\n	Hassleback Bake Potato\n	\n\n\nDesserts\n\n\n	\n	Peanut Butter Pie\n	\n	\n	Strawberry Champagne Float\n	\n\n\n\n\n \n\n\n\nKristin@oldschoolhouseevents.com\n\n608.219.2403\n\n\n\nReservations Only!!!
X-ALT-DESC;FMTTYPE=text/html:<div class="xdj266r x11i5rnm xat24cr x1mh8g0r x1vvkbs x126k92a" color:="" font-size:="" segoe="" style="margin: 0px\; overflow-wrap: break-word\; white-space-collapse: preserve\; font-family: " ui="">\n<div dir="auto" style="font-family: inherit\;">Valentine&#39\;s Day Dinner @ The Old Schoolhouse in Merrimac<br />\nWednesday\, February 14th\, 2024 4pm-9pm<br />\n<br />\nStarter to Share</div>\n\n<ul dir="ltr">\n	<li style="font-family: inherit\;">\n	<p>Surf and Turf Crostini Platter</p>\n	</li>\n	<li style="font-family: inherit\;">\n	<p>Bruschetta</p>\n	</li>\n	<li style="font-family: inherit\;">\n	<p>Tenderloin Bites</p>\n	</li>\n	<li style="font-family: inherit\;">\n	<p>Mussels</p>\n	</li>\n	<li style="font-family: inherit\;">\n	<p>Candied Bacon</p>\n	</li>\n	<li style="font-family: inherit\;">\n	<p>Prepared Sauces</p>\n	</li>\n</ul>\n\n<div style="font-family: inherit\;">Greens</div>\n\n<ul>\n	<li style="font-family: inherit\;">\n	<p>Chopped Arugula and Romaine\, tomato\, red onion\, crouton crumble with house maple dijon drizzle</p>\n	</li>\n</ul>\n\n<div style="font-family: inherit\;">Entrees for Each</div>\n\n<ul>\n	<li style="font-family: inherit\;">\n	<p>Tenderloin Medallion atop Lobster Manicotti</p>\n	</li>\n	<li style="font-family: inherit\;">\n	<p>Herb Crusted Crab Stuffed Tilapia</p>\n	</li>\n</ul>\n\n<div style="font-family: inherit\;">Sides</div>\n\n<ul>\n	<li style="font-family: inherit\;">\n	<p>Bourbon Glazed Carrots</p>\n	</li>\n	<li style="font-family: inherit\;">\n	<p>Hassleback Bake Potato</p>\n	</li>\n</ul>\n\n<div style="font-family: inherit\;">Desserts</div>\n\n<ul>\n	<li style="font-family: inherit\;">\n	<p>Peanut Butter Pie</p>\n	</li>\n	<li style="font-family: inherit\;">\n	<p>Strawberry Champagne Float</p>\n	</li>\n</ul>\n</div>\n\n<div class="x11i5rnm xat24cr x1mh8g0r x1vvkbs xtlvy1s x126k92a" color:="" font-size:="" segoe="" style="margin: 0.5em 0px 0px\; overflow-wrap: break-word\; white-space-collapse: preserve\; font-family: " ui="">\n<div dir="auto" style="font-family: inherit\;">&nbsp\;</div>\n</div>\n\n<div class="x11i5rnm xat24cr x1mh8g0r x1vvkbs xtlvy1s x126k92a" color:="" font-size:="" segoe="" style="margin: 0.5em 0px 0px\; overflow-wrap: break-word\; white-space-collapse: preserve\; font-family: " ui="">\n<div dir="auto" style="font-family: inherit\;">Kristin@oldschoolhouseevents.com</div>\n\n<div dir="auto" style="font-family: inherit\;">608.219.2403<br />\n<br />\nReservations Only!!!</div>\n</div>\n
LOCATION:The Old Schoolhouse
UID:e.1184.31547
SEQUENCE:3
DTSTAMP:20260420T020400Z
URL:http://members.saukprairie.com/events/details/the-old-schoolhouse-valentine-s-dinner-31547
END:VEVENT

END:VCALENDAR
