BEGIN:VCALENDAR
VERSION:2.0
PRODID:-//ChamberMaster//Event Calendar 2.0//EN
METHOD:PUBLISH
X-PUBLISHED-TTL:P3D
REFRESH-INTERVAL:P3D
CALSCALE:GREGORIAN
BEGIN:VEVENT
DTSTART:20240823T223000Z
DTEND:20240823T170000Z
X-MICROSOFT-CDO-ALLDAYEVENT:FALSE
SUMMARY:The People Brothers Band @ The Vines
DESCRIPTION:We are excited to see The People Brothers Band returning to The Vines August 23rd!!!\n\n\n\nGet your tickets online for $20 or pay at the door day of $25.  \n\n\n\nBring your chair\, blanket\, snack\, and non-alcoholic beverage. Remember\, it is an outdoor venue.\n\n\n\nThe Vines Bar will be selling wine\, beer\, and seltzers. !!!No alcoholic carry-ins are allowed!!!\n\n\n\nPets are allowed but have to be on a leash at ALL times.\n\n\n\nKids 15 and under are free. Doors open at 5:30pm\, music starts at 6:30pm. Camping is allowed for $10 per adult camping.\n\n \n\nThe People Brothers Band's unique brand of rhythm and soul features some of the most talented vocalists and musicians in the region. The vibrant group of longtime friends\, collaborators\, and multi-dimensional artists formed in 2008 as an open-mic songwriting outfit and hasn't looked back since. The band has cultivated a captivating musical alchemy through collective dedication to their craft\, the Midwest music community\, and each other. The People Brothers Band is united by their shared vision of uplifting friends and fans through music.
X-ALT-DESC;FMTTYPE=text/html:<div>We are excited to see The People Brothers Band returning to The Vines August 23rd!!!<br />\n<br />\nGet your tickets <u><strong><a href="https://qracktickets.com/the-vines/event/the-people-brothers-band-at-the-vines?fbclid=IwY2xjawEwU6RleHRuA2FlbQIxMAABHW9CVzvGCaGw0GuEAvXEDHNAknKEEAw9pskgEyKSagLShY8w6iLRc9UElw_aem_MkAqsHnQ4kQhwstkAl7SWA">online</a></strong></u> for $20 or pay at the door day of $25.&nbsp\;&nbsp\;<br />\n<br />\nBring your chair\, blanket\, snack\, and non-alcoholic beverage. Remember\, it is an outdoor venue.<br />\n<br />\nThe Vines Bar will be selling wine\, beer\, and seltzers. !!!No alcoholic carry-ins are allowed!!!<br />\n<br />\nPets are allowed but have to be on a leash at ALL times.<br />\n<br />\nKids 15 and under are free. Doors open at 5:30pm\, music starts at 6:30pm. Camping is allowed for $10 per adult camping.</div>\n\n<div>&nbsp\;</div>\n\n<div><em>The People Brothers Band&rsquo\;s unique brand of rhythm and soul features some of the most talented vocalists and musicians in the region. The vibrant group of longtime friends\, collaborators\, and multi-dimensional artists formed in 2008 as an open-mic songwriting outfit and hasn&rsquo\;t looked back since. The band has cultivated a captivating musical alchemy through collective dedication to their craft\, the Midwest music community\, and each other. The People Brothers Band is united by their shared vision of uplifting friends and fans through music.&nbsp\;</em></div>\n
LOCATION:The Vines
UID:e.1184.32983
SEQUENCE:3
DTSTAMP:20260419T175546Z
URL:http://members.saukprairie.com/events/details/the-people-brothers-band-the-vines-32983
END:VEVENT

END:VCALENDAR
