BEGIN:VCALENDAR
VERSION:2.0
PRODID:-//ChamberMaster//Event Calendar 2.0//EN
METHOD:PUBLISH
X-PUBLISHED-TTL:P3D
REFRESH-INTERVAL:P3D
CALSCALE:GREGORIAN
BEGIN:VEVENT
DTSTART:20191018T213000Z
DTEND:20191018T223000Z
X-MICROSOFT-CDO-ALLDAYEVENT:FALSE
SUMMARY:The Physics Experience
DESCRIPTION:As part of the Wisconsin Science Festival\, Mike Randall\, a former UW-Madison Wonders of Physics administrator\, is coming to the Sauk City Library. He'll wow kids and families in a fast-paced\, engaging and educational physics program\, filled with fun demonstrations!
X-ALT-DESC;FMTTYPE=text/html:As part of the Wisconsin Science Festival\, Mike Randall\, a former UW-Madison Wonders of Physics administrator\, is coming to the Sauk City Library. He&rsquo\;ll wow kids and families in a fast-paced\, engaging and educational physics program\, filled with fun demonstrations!
LOCATION:515 Water St. Sauk City\, WI 53583
UID:e.1184.23166
SEQUENCE:3
DTSTAMP:20260423T095041Z
URL:http://members.saukprairie.com/events/details/the-physics-experience-23166
END:VEVENT

END:VCALENDAR
