BEGIN:VCALENDAR
VERSION:2.0
PRODID:-//ChamberMaster//Event Calendar 2.0//EN
METHOD:PUBLISH
X-PUBLISHED-TTL:P3D
REFRESH-INTERVAL:P3D
CALSCALE:GREGORIAN
BEGIN:VEVENT
DTSTART:20170804T000000Z
DTEND:20170804T020000Z
X-MICROSOFT-CDO-ALLDAYEVENT:FALSE
SUMMARY:The Pine Travelers Duo at Woodshed Ale House
DESCRIPTION:Original music that combines the gritty Americana of outlaw country\, folk\, and bluegrass with old school funk rave-ups and roots rock & roll.
X-ALT-DESC;FMTTYPE=text/html:<span style="color: rgb(75\, 79\, 86)\; font-family: helvetica\, arial\, sans-serif\; font-size: 14px\;">Original music that combines the gritty Americana of outlaw country\, folk\, and bluegrass with old school funk rave-ups and roots rock &amp\; roll.</span>
LOCATION:Woodshed Ale House 101 Jackson Street Sauk City\, WI 53583
UID:e.1184.11805
SEQUENCE:3
DTSTAMP:20260425T015021Z
URL:http://members.saukprairie.com/events/details/the-pine-travelers-duo-at-woodshed-ale-house-11805
END:VEVENT

END:VCALENDAR
