BEGIN:VCALENDAR
VERSION:2.0
PRODID:-//ChamberMaster//Event Calendar 2.0//EN
METHOD:PUBLISH
X-PUBLISHED-TTL:P3D
REFRESH-INTERVAL:P3D
CALSCALE:GREGORIAN
BEGIN:VEVENT
DTSTART:20180831T143000Z
DTEND:20180831T163000Z
X-MICROSOFT-CDO-ALLDAYEVENT:FALSE
SUMMARY:The Power of Hope
DESCRIPTION:Hope is an important protective factor that enables individuals and families to thrive. Hope is also an important coping resource to vicarious trauma and burnout among service providers.\n\nThis workshop will present how:\n\n	Hope predicts adaptive outcomes\n	Hope buffers the effects of adversity\n	Hope can be influenced and sustained\n\nThis workshop will also present "hands-on" tools to assess and nurture hope across the lifespan.\n\n\n\nRegister on-line at www.HopeHouseSCW.org\n\nOr email: debb@HopeHouseSCW.org
X-ALT-DESC;FMTTYPE=text/html:Hope is an important protective factor that enables individuals and families to thrive. Hope is also an important coping resource to vicarious trauma and burnout among service providers.<br />\nThis workshop will present how:\n<ul>\n	<li>Hope predicts adaptive outcomes</li>\n	<li>Hope buffers the effects of adversity</li>\n	<li>Hope can be influenced and sustained</li>\n</ul>\nThis workshop will also present &ldquo\;hands-on&rdquo\; tools to assess and nurture hope across the lifespan.<br />\n<br />\nRegister on-line at www.HopeHouseSCW.org<br />\nOr email: debb@HopeHouseSCW.org
LOCATION:Trappers Turn Golf Club Wisconsin Dells
UID:e.1184.20541
SEQUENCE:3
DTSTAMP:20260424T065629Z
URL:http://members.saukprairie.com/events/details/the-power-of-hope-20541
END:VEVENT

END:VCALENDAR
