BEGIN:VCALENDAR
VERSION:2.0
PRODID:-//ChamberMaster//Event Calendar 2.0//EN
METHOD:PUBLISH
X-PUBLISHED-TTL:P3D
REFRESH-INTERVAL:P3D
CALSCALE:GREGORIAN
BEGIN:VEVENT
DTSTART:20170714T000000Z
DTEND:20170714T020000Z
X-MICROSOFT-CDO-ALLDAYEVENT:FALSE
SUMMARY:The Rascal Theory at the Woodshed Ale House
DESCRIPTION:The Rascal Theory are the powerhouse band out of Central WI that make you move and groove with their electrifying brand of Rock and Blues.They have been rocking stages and faces across the region and not looking back.
X-ALT-DESC;FMTTYPE=text/html:<span style="color: rgb(75\, 79\, 86)\; font-family: helvetica\, arial\, sans-serif\; font-size: 14px\;">The Rascal Theory are the powerhouse band out of Central WI that make you move and groove with their electrifying brand of Rock and Blues.They have been rocking stages and faces across the region and not looking back.</span>
LOCATION:Woodshed Ale House 101 Jackson Street
UID:e.1184.11802
SEQUENCE:3
DTSTAMP:20260425T033804Z
URL:http://members.saukprairie.com/events/details/the-rascal-theory-at-the-woodshed-ale-house-11802
END:VEVENT

END:VCALENDAR
