BEGIN:VCALENDAR
VERSION:2.0
PRODID:-//ChamberMaster//Event Calendar 2.0//EN
METHOD:PUBLISH
X-PUBLISHED-TTL:P3D
REFRESH-INTERVAL:P3D
CALSCALE:GREGORIAN
BEGIN:VEVENT
DTSTART:20230713T230000Z
DTEND:20230714T010000Z
X-MICROSOFT-CDO-ALLDAYEVENT:FALSE
SUMMARY:The Rascal Theory at Vintage Brewing!
DESCRIPTION:Live music at Vintage Brewing Co. in the beer garden welcome The Rascal Theory!
X-ALT-DESC;FMTTYPE=text/html:Live music at Vintage Brewing Co. in the beer garden welcome The Rascal Theory!
LOCATION:Vintage Brewing Co. 600 Water Street\, Sauk City
UID:e.1184.30884
SEQUENCE:3
DTSTAMP:20260420T115754Z
URL:http://members.saukprairie.com/events/details/the-rascal-theory-at-vintage-brewing-30884
END:VEVENT

END:VCALENDAR
