BEGIN:VCALENDAR
VERSION:2.0
PRODID:-//ChamberMaster//Event Calendar 2.0//EN
METHOD:PUBLISH
X-PUBLISHED-TTL:P3D
REFRESH-INTERVAL:P3D
CALSCALE:GREGORIAN
BEGIN:VEVENT
DTSTART:20180713T010000Z
DTEND:20180713T030000Z
X-MICROSOFT-CDO-ALLDAYEVENT:FALSE
SUMMARY:The Rascal Theory at Vintage Brewing Co. Sauk Prairie
DESCRIPTION:The Rascal Theory are the powerhouse band out of Central WI that make you move and groove with their electrifying brand of Rock and Blues.They have been rocking stages and faces across the region and not looking back.
X-ALT-DESC;FMTTYPE=text/html:<span style="color: rgb(75\, 79\, 86)\; font-family: Helvetica\, Arial\, sans-serif\; font-size: 14px\;">The Rascal Theory are the powerhouse band out of Central WI that make you move and groove with their electrifying brand of Rock and Blues.They have been rocking stages and faces across the region and not looking back.</span>
LOCATION:Vintage Brewing Co. Sauk Prairie 600 Water Street Sauk City\, WI 53583
UID:e.1184.18378
SEQUENCE:3
DTSTAMP:20260424T100910Z
URL:http://members.saukprairie.com/events/details/the-rascal-theory-at-vintage-brewing-co-sauk-prairie-18378
END:VEVENT

END:VCALENDAR
