BEGIN:VCALENDAR
VERSION:2.0
PRODID:-//ChamberMaster//Event Calendar 2.0//EN
METHOD:PUBLISH
X-PUBLISHED-TTL:P3D
REFRESH-INTERVAL:P3D
CALSCALE:GREGORIAN
BEGIN:VEVENT
DTSTART:20190430T233000Z
DTEND:20190501T010000Z
X-MICROSOFT-CDO-ALLDAYEVENT:FALSE
SUMMARY:The Red Shoes by Playtime Productions
DESCRIPTION:Playtime Productions of Madison returns to the River Arts Center to present the Red Shoes. This free play for all ages is sponsored by the Sauk City Library. Tickets are not required.
X-ALT-DESC;FMTTYPE=text/html:<span style="font-family:arial\; font-size:11pt">Playtime Productions of Madison returns to the River Arts Center to present the Red Shoes. This free play for all ages is sponsored by the Sauk City Library. Tickets are not required.</span>
LOCATION:River Arts Center 105 9th Street Prairie du Sac\, WI 53578
UID:e.1184.22157
SEQUENCE:3
DTSTAMP:20260423T190036Z
URL:http://members.saukprairie.com/events/details/the-red-shoes-by-playtime-productions-22157
END:VEVENT

END:VCALENDAR
