BEGIN:VCALENDAR
VERSION:2.0
PRODID:-//ChamberMaster//Event Calendar 2.0//EN
METHOD:PUBLISH
X-PUBLISHED-TTL:P3D
REFRESH-INTERVAL:P3D
CALSCALE:GREGORIAN
BEGIN:VEVENT
DTSTART;VALUE=DATE:20191121
DTEND;VALUE=DATE:20191125
TRANSP:TRANSPARENT
X-MICROSOFT-CDO-ALLDAYEVENT:TRUE
SUMMARY:The Story of The Nutcracker
DESCRIPTION:The Sauk Prairie Theatre Guild Presents\n\n\n\nThe Story of The Nutcracker\n\nA Children's Theatre Play with Dance\n\nBy Michele L. Vacca\n\n\n\nTickets on sale now at sptheatreguild.org and\n\nRiver Arts on Water Gallery\, 590 Water St\, Prairie du Sac\, WI\n\n\n\nAdvanced Tickets: $12 Adult and $10 Child/Senior\n\nAt the Door: $14 Adult and $12 Child/Senior
X-ALT-DESC;FMTTYPE=text/html:The Sauk Prairie Theatre Guild Presents<br />\n<br />\nThe Story of The Nutcracker<br />\nA Children&#39\;s Theatre Play with Dance<br />\nBy Michele L. Vacca<br />\n<br />\nTickets on sale now at sptheatreguild.org and<br />\nRiver Arts on Water Gallery\, 590 Water St\, Prairie du Sac\, WI<br />\n<br />\nAdvanced Tickets: $12 Adult and $10 Child/Senior<br />\nAt the Door: $14 Adult and $12 Child/Senior
LOCATION:The River Arts Center 105 9th St\, Prairie du Sac\, WI
UID:e.1184.23645
SEQUENCE:3
DTSTAMP:20260423T095424Z
URL:http://members.saukprairie.com/events/details/the-story-of-the-nutcracker-23645
END:VEVENT

END:VCALENDAR
