BEGIN:VCALENDAR
VERSION:2.0
PRODID:-//ChamberMaster//Event Calendar 2.0//EN
METHOD:PUBLISH
X-PUBLISHED-TTL:P3D
REFRESH-INTERVAL:P3D
CALSCALE:GREGORIAN
BEGIN:VEVENT
DTSTART:20190510T173000Z
DTEND:20190510T183000Z
X-MICROSOFT-CDO-ALLDAYEVENT:FALSE
SUMMARY:The Story of Us - Shared Spirit Friday Forum Talk
DESCRIPTION:A Historical Perspective on the Founding of UW-Baraboo/Sauk County\n\nAt the May Shared Spirits Friday Forum talk\, learn about why and how our campus was founded. Joe Wankerl and Alan Paschen will share their experiences\, and Ed Janairo will provide a glimpse of our exciting chapter ahead. Beverages will be provided.
X-ALT-DESC;FMTTYPE=text/html:<p>A Historical Perspective on the Founding of UW-Baraboo/Sauk County</p>\n\n<p>At the May Shared Spirits Friday Forum talk\, learn about why and how our campus was founded. Joe Wankerl and Alan Paschen will share their experiences\, and Ed Janairo will provide a glimpse of our exciting chapter ahead. Beverages will be provided.</p>\n
LOCATION:T.N. Savides Library\, UW-Baraboo/Sauk County
UID:e.1184.22224
SEQUENCE:3
DTSTAMP:20260423T171939Z
URL:http://members.saukprairie.com/events/details/the-story-of-us-shared-spirit-friday-forum-talk-22224
END:VEVENT

END:VCALENDAR
