BEGIN:VCALENDAR
VERSION:2.0
PRODID:-//ChamberMaster//Event Calendar 2.0//EN
METHOD:PUBLISH
X-PUBLISHED-TTL:P3D
REFRESH-INTERVAL:P3D
CALSCALE:GREGORIAN
BEGIN:VEVENT
DTSTART:20161230T010000Z
DTEND:20161230T030000Z
X-MICROSOFT-CDO-ALLDAYEVENT:FALSE
SUMMARY:The Wells Division at the Woodshed Ale House
DESCRIPTION:The description "folk-rock" puts you in the ballpark\, but it is probably an understatement for Madison\, WI-based band\, The Wells Division. \n\n\n\nIt's folk-rock with a pulse\, heart and soul\, grit\, and humanity.\n\n\n\nEach member has a distinctly unique musical background\, but together the pieces fit just right. The style of songs themselves can seem just as varied\, but ultimately they are tied together with not only instrumentation\, but with bittersweet vocals\, thoughtful lyrics\, and the collective themes of what is essentially the yin and yang of life as we know it\, and as we don't.
X-ALT-DESC;FMTTYPE=text/html:<span style="color: rgb(75\, 79\, 86)\; font-family: helvetica\, arial\, sans-serif\; font-size: 14px\;">The description &quot\;folk-rock&quot\; puts you in the ballpark\, but it is probably an understatement for Madison\, WI-based band\, The Wells Division.&nbsp\;</span><br style="color: rgb(75\, 79\, 86)\; font-family: helvetica\, arial\, sans-serif\; font-size: 14px\;" />\n<br style="color: rgb(75\, 79\, 86)\; font-family: helvetica\, arial\, sans-serif\; font-size: 14px\;" />\n<span style="color: rgb(75\, 79\, 86)\; font-family: helvetica\, arial\, sans-serif\; font-size: 14px\;">It&#39\;s folk-rock with a pulse\, heart and soul\, grit\, and humanity.</span><br style="color: rgb(75\, 79\, 86)\; font-family: helvetica\, arial\, sans-serif\; font-size: 14px\;" />\n<br style="color: rgb(75\, 79\, 86)\; font-family: helvetica\, arial\, sans-serif\; font-size: 14px\;" />\n<span style="color: rgb(75\, 79\, 86)\; font-family: helvetica\, arial\, sans-serif\; font-size: 14px\;">Each member has a distinctly unique musical background\, but together the pieces fit just right. The style of songs themselves can seem just as varied\, but ultimately they are tied together with not only instrumentation\, but with bittersweet vocals\, thoughtful lyrics\, and the collective themes of what is essentially the yin and yang of life as we know it\, and as we don&#39\;t.</span>
LOCATION:Woodshed Ale House 101 Jackson Street Sauk City\, WI 53583
UID:e.1184.9420
SEQUENCE:3
DTSTAMP:20260425T142402Z
URL:http://members.saukprairie.com/events/details/the-wells-division-at-the-woodshed-ale-house-9420
END:VEVENT

END:VCALENDAR
