BEGIN:VCALENDAR
VERSION:2.0
PRODID:-//ChamberMaster//Event Calendar 2.0//EN
METHOD:PUBLISH
X-PUBLISHED-TTL:P3D
REFRESH-INTERVAL:P3D
CALSCALE:GREGORIAN
BEGIN:VEVENT
DTSTART:20181006T000000Z
DTEND:20181006T020000Z
X-MICROSOFT-CDO-ALLDAYEVENT:FALSE
SUMMARY:The World Famous Glenn Miller Orchestra
DESCRIPTION:The World Famous Glenn Miller Orchestra\n\nFriday\, October 5th\, 2018 7pm\n\nat the River Arts Center (105-9th Street\, Prairie du Sac)\n\nTickets: $35/adults  $10/students\n\n                         -\n\nThe most popular and sought after big band in the world today! With its unique jazz sound\, the Glenn Miller Orchestra is considered to be one of the greatest bands of all time. The present Glenn Miller Orchestra was formed in 1956 and has been touring consistently since\, playing an average of 300 live dates a year all around the world. Nick Hilscher is the orchestra's present music director.
X-ALT-DESC;FMTTYPE=text/html:<p><strong>The World Famous Glenn Miller Orchestra</strong></p>\n\n<p><strong>Friday\, October 5th\, 2018 7pm</strong></p>\n\n<p>at the River Arts Center (105-9th Street\, Prairie du Sac)</p>\n\n<p>Tickets: $35/adults &nbsp\;$10/students</p>\n\n<p>&mdash\;&mdash\;&mdash\;&mdash\;&mdash\;&mdash\;&mdash\;&mdash\;&mdash\;&mdash\;&mdash\;&mdash\;&mdash\;&mdash\;&mdash\;&mdash\;&mdash\;&mdash\;&mdash\;&mdash\;&mdash\;&mdash\;&mdash\;&mdash\;&mdash\;-</p>\n\n<p>The most popular and sought after big band in the world today! With its unique jazz sound\, the Glenn Miller Orchestra is considered to be one of the greatest bands of all time. The present Glenn Miller Orchestra was formed in 1956 and has been touring consistently since\, playing an average of 300 live dates a year all around the world. Nick Hilscher is the orchestra&rsquo\;s present music director.</p>\n
LOCATION:River Arts Center (105-9th Street\, Prairie du Sac)
UID:e.1184.20452
SEQUENCE:3
DTSTAMP:20260424T051137Z
URL:http://members.saukprairie.com/events/details/the-world-famous-glenn-miller-orchestra-20452
END:VEVENT

END:VCALENDAR
