BEGIN:VCALENDAR
VERSION:2.0
PRODID:-//ChamberMaster//Event Calendar 2.0//EN
METHOD:PUBLISH
X-PUBLISHED-TTL:P3D
REFRESH-INTERVAL:P3D
CALSCALE:GREGORIAN
BEGIN:VEVENT
DTSTART:20200229T010000Z
DTEND:20200229T030000Z
X-MICROSOFT-CDO-ALLDAYEVENT:FALSE
SUMMARY:The Young Irelanders
DESCRIPTION:The Young Irelanders\n\nat the River Arts Center (high school) | 105-9th Street\, Prairie du Sac\, WI 53578\n\nFriday\, February 28th\, 2020 | 7pm-9pm\n\nTickets: $25/adults\, $10/students\n\n\nTo experience Ireland's traditions in music\, song\, and dance presented by some of the most talented young performers in the world\, this sensational act is an absolute must-see.\n\nWhether it be one of the much-loved vocal numbers like "Galway Bay"\, the foot stomping beat of Kerry polkas\, or a stirring air inspired by the Cliffs of Moher\, The Young Irelanders deliver a performance which transports you to a part of the world untarnished by modernity and breathtaking in its beauty.
X-ALT-DESC;FMTTYPE=text/html:<p><strong>The Young Irelanders</strong></p>\n\n<p><strong>at the River Arts Center (high school) | 105-9th Street\, Prairie du Sac\, WI 53578</strong></p>\n\n<p>Friday\, February 28th\, 2020 | 7pm-9pm</p>\n\n<p>Tickets: $25/adults\, $10/students</p>\n\n<hr />\n<p>To experience Ireland&rsquo\;s traditions in music\, song\, and dance presented by some of the most talented young performers in the world\, this sensational act is an absolute must-see.</p>\n\n<p>Whether it be one of the much-loved vocal numbers like &ldquo\;Galway Bay&rdquo\;\, the foot stomping beat of Kerry polkas\, or a stirring air inspired by the Cliffs of Moher\, The Young Irelanders deliver a performance which transports you to a part of the world untarnished by modernity and breathtaking in its beauty.</p>\n
LOCATION:River Arts Center 105 9th St Prairie du Sac\, WI 53578
UID:e.1184.22524
SEQUENCE:3
DTSTAMP:20260423T041154Z
URL:http://members.saukprairie.com/events/details/the-young-irelanders-22524
END:VEVENT

END:VCALENDAR
