BEGIN:VCALENDAR
VERSION:2.0
PRODID:-//ChamberMaster//Event Calendar 2.0//EN
METHOD:PUBLISH
X-PUBLISHED-TTL:P3D
REFRESH-INTERVAL:P3D
CALSCALE:GREGORIAN
BEGIN:VEVENT
DTSTART:20190627T220000Z
DTEND:20190628T040000Z
X-MICROSOFT-CDO-ALLDAYEVENT:FALSE
SUMMARY:Thursday Night - Summer Vibes!
DESCRIPTION:Summer Vibes Thursday June 6th at The Old Schoolhouse Special Events! (Jacob Vance) will be playing on the outside deck 6-9pm. The Bbq Baked Potato Bar will run 5pm-9pm. The Schoolhouse will have lots of Summer Drink Specials to wet your thirst! Bring out your Hottie rides and tag us in a pic on the grounds to win the 'Hottie of the Night'. Winners will receive a gift bag\, trophy and 2 free passes to the Bbq Baked Potato Bar. \n\n\n\nStay hungry friends!
X-ALT-DESC;FMTTYPE=text/html:<span style="color: rgb(29\, 33\, 41)\; font-family: Helvetica\, Arial\, sans-serif\; font-size: 14px\; white-space: pre-wrap\;">Summer Vibes Thursday June 6th at The Old Schoolhouse Special Events! (Jacob Vance) will be playing on the outside deck 6-9pm. The Bbq Baked Potato Bar will run 5pm-9pm. The Schoolhouse will have lots of Summer Drink Specials to wet your thirst! Bring out your Hottie rides and tag us in a pic on the grounds to win the &lsquo\;Hottie of the Night&rsquo\;. Winners will receive a gift bag\, trophy and 2 free passes to the Bbq Baked Potato Bar. </span><br />\n<br style="color: rgb(29\, 33\, 41)\; font-family: Helvetica\, Arial\, sans-serif\; font-size: 14px\; white-space: pre-wrap\;" />\n<span style="color: rgb(29\, 33\, 41)\; font-family: Helvetica\, Arial\, sans-serif\; font-size: 14px\; white-space: pre-wrap\;">Stay hungry friends! </span>
LOCATION:E13887 County Road DL Merrimac\, WI 53561
UID:e.1184.22459
SEQUENCE:3
DTSTAMP:20260423T153308Z
URL:http://members.saukprairie.com/events/details/thursday-night-summer-vibes-22459
END:VEVENT

END:VCALENDAR
