BEGIN:VCALENDAR
VERSION:2.0
PRODID:-//ChamberMaster//Event Calendar 2.0//EN
METHOD:PUBLISH
X-PUBLISHED-TTL:P3D
REFRESH-INTERVAL:P3D
CALSCALE:GREGORIAN
BEGIN:VEVENT
DTSTART:20221210T180000Z
DTEND:20221210T220000Z
X-MICROSOFT-CDO-ALLDAYEVENT:FALSE
SUMMARY:Tissue Paper Boxes with Rhonda Nass
DESCRIPTION:In this workshop\, instructor Rhonda Nass will guide students through the process of ripping and layering tissue paper in order to create a topographic-looking surface. The pieces will be folded into a box shape\, and can be made into ornaments or kept as a sculptural box. Students will choose their own colors\, with guidance from Rhonda\, as well as adding pen details to add depth and definition. Create miniature landscapes or keep it fully abstract   up to you!\n\n\n\nhttps://www.riverartsinc.org/tissue-paper-boxes/
X-ALT-DESC;FMTTYPE=text/html:<span style="color:rgb(0\, 0\, 0)\; font-family:arial\,helvetica\,sans-serif">In this workshop\, instructor Rhonda Nass will guide students through the process of ripping and layering tissue paper in order to create a topographic-looking surface. The pieces will be folded into a box shape\, and can be made into ornaments or kept as a sculptural box. Students will choose their own colors\, with guidance from Rhonda\, as well as adding pen details to add depth and definition. Create miniature landscapes or keep it fully abstract &ndash\; up to you!</span><br />\n<br />\nhttps://www.riverartsinc.org/tissue-paper-boxes/
LOCATION:590 Water St\, Prairie Du Sac\, WI 53578
UID:e.1184.28190
SEQUENCE:3
DTSTAMP:20260421T004012Z
URL:http://members.saukprairie.com/events/details/tissue-paper-boxes-with-rhonda-nass-28190
END:VEVENT

END:VCALENDAR
