BEGIN:VCALENDAR
VERSION:2.0
PRODID:-//ChamberMaster//Event Calendar 2.0//EN
METHOD:PUBLISH
X-PUBLISHED-TTL:P3D
REFRESH-INTERVAL:P3D
CALSCALE:GREGORIAN
BEGIN:VEVENT
DTSTART:20240809T230000Z
DTEND:20240810T020000Z
X-MICROSOFT-CDO-ALLDAYEVENT:FALSE
SUMMARY:Totally Trucks & Outdoor Movie
DESCRIPTION:Not all heroes wear capes! Come enjoy this FREE family event.\n\n \n\nCome explore our local heroes trucks and vehicles. Climb around\, honk the horn\, and see all the lights! Interact with so many different aspect of our community from 6-7:30pm. Following the trucks\, The Super Mario Bros Movie will be playing on one of our playing fields at Culver Community Park. Movie starts at Dusk! Bring blankets and chairs to enjoy the outdoor movie.\n\n\n\nConcessions will be available during the event at the Prairie Landing!
X-ALT-DESC;FMTTYPE=text/html:<div>Not all heroes wear capes! Come enjoy this FREE family event.<br />\n&nbsp\;</div>\n\n<div>Come explore our local heroes trucks and vehicles. Climb around\, honk the horn\, and see all the lights! Interact with so many different aspect of our community from 6-7:30pm. Following the trucks\, The Super Mario Bros Movie will be playing on one of our playing fields at Culver Community Park. Movie starts at Dusk!&nbsp\;Bring blankets and chairs to enjoy the outdoor movie.<br />\n<br />\nConcessions will be available during the event at the Prairie Landing!&nbsp\;</div>\n
LOCATION:Culver Community Park
UID:e.1184.32373
SEQUENCE:3
DTSTAMP:20260419T165207Z
URL:http://members.saukprairie.com/events/details/totally-trucks-outdoor-movie-08-09-2024-32373
END:VEVENT

END:VCALENDAR
