BEGIN:VCALENDAR
VERSION:2.0
PRODID:-//ChamberMaster//Event Calendar 2.0//EN
METHOD:PUBLISH
X-PUBLISHED-TTL:P3D
REFRESH-INTERVAL:P3D
CALSCALE:GREGORIAN
BEGIN:VEVENT
DTSTART:20220806T000000Z
DTEND:20220806T030000Z
X-MICROSOFT-CDO-ALLDAYEVENT:FALSE
SUMMARY:Totally Trucks & Outdoor Movie
DESCRIPTION:Sauk Prairie Recreation is inviting families to come out to the Ballpark for a FREE Totally Trucks event & movie under the stars on a giant movie screen. Come explore local emergency\, construction\, and other trucks from 6-7:30pm and then watch Paw Patrol: The Movie on the baseball field at DUSK (7:45pm). \n\n\n\nConcessions will be for sale beginning at 6pm and will run through the duration of the entire movie. \n\n\n\nAdditional event details:\n\n- Bring your lawn chairs and/or blankets. Seating will be on the grass outfield area. \n\n- Footballs\, baseballs\, frisbees\, etc. will not be permitted into the ballpark \n\n- Check our Facebook page or website closer to the day to see what time dusk will be.\n\n- In the event of rain or severe weather\, we will attempt to reschedule the event if possible. \n\n\n\nThis event is sponsored by Sauk Prairie United Way.
X-ALT-DESC;FMTTYPE=text/html:<span style="color:#4B4F56\;"><span style="font-family:helvetica\,sans-serif\;"><span style="font-size:10.5pt\;">Sauk Prairie Recreation is inviting families to come out to the Ballpark for a FREE Totally Trucks event &amp\; movie under the stars on a giant movie screen.&nbsp\;Come explore local emergency\, construction\, and other trucks from 6-7:30pm and then watch Paw Patrol: The Movie on the baseball field at DUSK (7:45pm).&nbsp\;</span></span></span><br />\n<br />\n<span style="color:#4B4F56\;"><span style="font-family:helvetica\,sans-serif\;"><span style="font-size:10.5pt\;">Concessions will be for sale beginning at 6pm and will run through the duration of the entire movie.&nbsp\;</span></span></span><br />\n<br />\n<span style="color:#4B4F56\;"><span style="font-family:helvetica\,sans-serif\;"><span style="font-size:10.5pt\;">Additional event details:</span></span></span><br />\n<span style="color:#4B4F56\;"><span style="font-family:helvetica\,sans-serif\;"><span style="font-size:10.5pt\;">- Bring your lawn chairs and/or blankets. Seating will be on the grass outfield area.&nbsp\;</span></span></span><br />\n<span style="color:#4B4F56\;"><span style="font-family:helvetica\,sans-serif\;"><span style="font-size:10.5pt\;">- Footballs\, baseballs\, frisbees\, etc. will not be permitted into the ballpark&nbsp\;</span></span></span><br />\n<span style="color:#4B4F56\;"><span style="font-family:helvetica\,sans-serif\;"><span style="font-size:10.5pt\;">- Check our Facebook page or website closer to the day to see what time dusk will be.</span></span></span><br />\n<span style="color:#4B4F56\;"><span style="font-family:helvetica\,sans-serif\;"><span style="font-size:10.5pt\;">- In the event of rain or severe weather\, we will attempt to reschedule the event if possible.&nbsp\;</span></span></span><br />\n<br />\n<span style="color:#4B4F56\;"><span style="font-family:helvetica\,sans-serif\;"><span style="font-size:10.5pt\;">This event is sponsored by Sauk Prairie United Way.</span></span></span><br />\n<br />\n&nbsp\;
LOCATION:Chuck Hall Memorial Field 305 Hemlock St Sauk City\, WI 53583
UID:e.1184.27129
SEQUENCE:3
DTSTAMP:20260421T074546Z
URL:http://members.saukprairie.com/events/details/totally-trucks-outdoor-movie-27129
END:VEVENT

END:VCALENDAR
