BEGIN:VCALENDAR
VERSION:2.0
PRODID:-//ChamberMaster//Event Calendar 2.0//EN
METHOD:PUBLISH
X-PUBLISHED-TTL:P3D
REFRESH-INTERVAL:P3D
CALSCALE:GREGORIAN
BEGIN:VEVENT
DTSTART;VALUE=DATE:20190622
DTEND;VALUE=DATE:20190623
TRANSP:TRANSPARENT
X-MICROSOFT-CDO-ALLDAYEVENT:TRUE
SUMMARY:Tour Wollersheim Distillery
DESCRIPTION:Tour Wollersheim Distillery and learn the process of how we make our authentic Wisconsin spirits including Whiskey\, Gin\, Absinthe\, of course Brandy\, and more! \n\n\n\nThe tour covers the production process of our spirits from the ground to the glass and includes samples of signature cocktails and our spirits. You even get your own tasting glass to take home!\n\n\n\nReservations must be made online. Must be 21 or older. \n\n\n\nTickets - $20 per person\n\n\n\nSeating is limited.
X-ALT-DESC;FMTTYPE=text/html:<span style="color: rgb(29\, 33\, 41)\; font-family: Helvetica\, Arial\, sans-serif\; font-size: 14px\; white-space: pre-wrap\;">Tour Wollersheim Distillery and learn the process of how we make our authentic Wisconsin spirits including Whiskey\, Gin\, Absinthe\, of course Brandy\, and more! </span><br style="color: rgb(29\, 33\, 41)\; font-family: Helvetica\, Arial\, sans-serif\; font-size: 14px\; white-space: pre-wrap\;" />\n<br style="color: rgb(29\, 33\, 41)\; font-family: Helvetica\, Arial\, sans-serif\; font-size: 14px\; white-space: pre-wrap\;" />\n<span style="color: rgb(29\, 33\, 41)\; font-family: Helvetica\, Arial\, sans-serif\; font-size: 14px\; white-space: pre-wrap\;">The tour covers the production process of our spirits from the ground to the glass and includes samples of signature cocktails and our spirits. You even get your own tasting glass to take home!</span><br style="color: rgb(29\, 33\, 41)\; font-family: Helvetica\, Arial\, sans-serif\; font-size: 14px\; white-space: pre-wrap\;" />\n<br style="color: rgb(29\, 33\, 41)\; font-family: Helvetica\, Arial\, sans-serif\; font-size: 14px\; white-space: pre-wrap\;" />\n<span style="color: rgb(29\, 33\, 41)\; font-family: Helvetica\, Arial\, sans-serif\; font-size: 14px\; white-space: pre-wrap\;">Reservations must be made online. Must be 21 or older. </span><br style="color: rgb(29\, 33\, 41)\; font-family: Helvetica\, Arial\, sans-serif\; font-size: 14px\; white-space: pre-wrap\;" />\n<br style="color: rgb(29\, 33\, 41)\; font-family: Helvetica\, Arial\, sans-serif\; font-size: 14px\; white-space: pre-wrap\;" />\n<span style="color: rgb(29\, 33\, 41)\; font-family: Helvetica\, Arial\, sans-serif\; font-size: 14px\; white-space: pre-wrap\;">Tickets - $20 per person</span><br style="color: rgb(29\, 33\, 41)\; font-family: Helvetica\, Arial\, sans-serif\; font-size: 14px\; white-space: pre-wrap\;" />\n<br style="color: rgb(29\, 33\, 41)\; font-family: Helvetica\, Arial\, sans-serif\; font-size: 14px\; white-space: pre-wrap\;" />\n<span style="color: rgb(29\, 33\, 41)\; font-family: Helvetica\, Arial\, sans-serif\; font-size: 14px\; white-space: pre-wrap\;">Seating is limited.</span>
LOCATION:Wollesrheim Distillery 7876 State Rd. 188 Prairie du Sac\, WI 53578
UID:e.1184.22538
SEQUENCE:3
DTSTAMP:20260423T154423Z
URL:http://members.saukprairie.com/events/details/tour-wollersheim-distillery-06-22-2019-22538
END:VEVENT

END:VCALENDAR
