BEGIN:VCALENDAR
VERSION:2.0
PRODID:-//ChamberMaster//Event Calendar 2.0//EN
METHOD:PUBLISH
X-PUBLISHED-TTL:P3D
REFRESH-INTERVAL:P3D
CALSCALE:GREGORIAN
BEGIN:VEVENT
DTSTART:20240314T230000Z
DTEND:20240315T000000Z
X-MICROSOFT-CDO-ALLDAYEVENT:FALSE
SUMMARY:Town Hall featuring Rep. Mark Pocan
DESCRIPTION:Indivisible Sauk Prairie is hosting a Town Hall featuring Representative Mark Pocan on Thursday\, March 14\, from 6:00 to 7:00 p.m. in the Community Room at the George Culver Community Library\, 615 Phillips Blvd.\, Sauk City. This is your opportunity to speak to the issues of the day\, ask questions\, and engage with your community. Come see your representative from Wisconsin's 2nd Congressional District in person! This event is not sponsored by the George Culver Community Library.
X-ALT-DESC;FMTTYPE=text/html:Indivisible Sauk Prairie is hosting a Town Hall featuring Representative Mark Pocan on Thursday\, March 14\, from 6:00 to 7:00 p.m. in the Community Room at the George Culver Community Library\, 615 Phillips Blvd.\, Sauk City. This is your opportunity to speak to the issues of the day\, ask questions\, and engage with your community. Come see your representative from Wisconsin&#39\;s 2nd Congressional District in person! This event is not sponsored by the George Culver Community Library.
LOCATION:George Culver Community Library\, 615 Phillips Blvd.\, Sauk City
UID:e.1184.32051
SEQUENCE:3
DTSTAMP:20260419T231911Z
URL:http://members.saukprairie.com/events/details/town-hall-featuring-rep-mark-pocan-32051
END:VEVENT

END:VCALENDAR
