BEGIN:VCALENDAR
VERSION:2.0
PRODID:-//ChamberMaster//Event Calendar 2.0//EN
METHOD:PUBLISH
X-PUBLISHED-TTL:P3D
REFRESH-INTERVAL:P3D
CALSCALE:GREGORIAN
BEGIN:VEVENT
DTSTART;VALUE=DATE:20221116
DTEND;VALUE=DATE:20221204
TRANSP:TRANSPARENT
X-MICROSOFT-CDO-ALLDAYEVENT:TRUE
SUMMARY:Toy & Supply Drive
DESCRIPTION:Eagle Valley Ag is helping support 6:8 Inc. in their Toy and Supply Drive! Please consider donating for adults and children! \n\n\n\nAdult Ideas:\n\n	Hand Tools\, Flashlights\n	Kitchen Utensils & Linens\n	Bathroom Linens\n	Blankets\, Bed Pillows\n	Warm Hats\, Scarves\, Socks\, Waterproof Gloves\n	Organizational Items (white board\, magnets/clips\, etc.)\n	Lotion\, Candy\, Snacks\, Coffee\n	Yard Tools\n	Gift Cards\n\nChildren Ideas (ages 2-15)\n\n\n	Books - Early Reader\, Board Books\, Chapter Books\n	Legos or Mana Tiles\n	Games & Puzzles\n	Cars & Trucks\n	STEM Kits\n	Art or Craft Supplies (sketch pads\, art kids\, paper\, markers\, etc.)\n	Waterproof Mittens/Gloves\n	Gift Certificates for Family Experiences (Movie\, Bowling\, etc.)\n\nDecember 3rd - Drop off Location will be held at the Prairie du Sac Fire Department from 7:30-10am with their Pancake Breakfast with It's a Holly Jolly Life.
X-ALT-DESC;FMTTYPE=text/html:Eagle Valley Ag is helping support 6:8 Inc. in their Toy and Supply Drive! Please consider donating for adults and children!&nbsp\;<br />\n<br />\nAdult Ideas:\n<ul>\n	<li>Hand Tools\, Flashlights</li>\n	<li>Kitchen Utensils &amp\; Linens</li>\n	<li>Bathroom Linens</li>\n	<li>Blankets\, Bed Pillows</li>\n	<li>Warm Hats\, Scarves\, Socks\, Waterproof Gloves</li>\n	<li>Organizational Items (white board\, magnets/clips\, etc.)</li>\n	<li>Lotion\, Candy\, Snacks\, Coffee</li>\n	<li>Yard Tools</li>\n	<li>Gift Cards</li>\n</ul>\nChildren Ideas (ages 2-15)\n\n<ul>\n	<li>Books - Early Reader\, Board Books\, Chapter Books</li>\n	<li>Legos or Mana Tiles</li>\n	<li>Games &amp\; Puzzles</li>\n	<li>Cars &amp\; Trucks</li>\n	<li>STEM Kits</li>\n	<li>Art or Craft Supplies (sketch pads\, art kids\, paper\, markers\, etc.)</li>\n	<li>Waterproof Mittens/Gloves</li>\n	<li>Gift Certificates for Family Experiences&nbsp\;(Movie\, Bowling\, etc.)</li>\n</ul>\n<strong>December 3rd - Drop off Location will be held at the Prairie du Sac Fire Department from 7:30-10am with their Pancake Breakfast with It&#39\;s a Holly Jolly Life.</strong>
LOCATION:Eagle Valley Ag 843 15th Street Prairie du Sac\, WI 53578
UID:e.1184.28778
SEQUENCE:3
DTSTAMP:20260421T003925Z
URL:http://members.saukprairie.com/events/details/toy-supply-drive-28778
END:VEVENT

END:VCALENDAR
