BEGIN:VCALENDAR
VERSION:2.0
PRODID:-//ChamberMaster//Event Calendar 2.0//EN
METHOD:PUBLISH
X-PUBLISHED-TTL:P3D
REFRESH-INTERVAL:P3D
CALSCALE:GREGORIAN
BEGIN:VEVENT
DTSTART;VALUE=DATE:20180929
DTEND;VALUE=DATE:20180930
TRANSP:TRANSPARENT
X-MICROSOFT-CDO-ALLDAYEVENT:TRUE
SUMMARY:Tractor & H.O.G Poker Run
DESCRIPTION:Registration at Meyer Oak Grove Park 8-9 a.m.\n\nSaturday\; you must be checked in by 3 p.m. to qualify for prizes.\n\n\n\n$30 Entry Fee\n\n\n\nDonuts & Coffee provided by Dunkin' Donuts\n\n\n\nPoker Stops:\n\n  Wollersheim Distillery\n\n  Vintage Brewing Company\n\n  Dorf Haus\n\n  Schoepp's Resort\n\n  Sunset Harbor Bar & Grill\n\n\n\nHELP US GET OUR VETERANS ON THESE FLIGHTS IN 2018\n\nSeptember 22\n\nOctober 12\n\nNovember 3\n\nwww.badgerhonorflight.org
X-ALT-DESC;FMTTYPE=text/html:Registration at Meyer Oak Grove Park 8-9 a.m.<br />\nSaturday\; you must be checked in by 3 p.m. to qualify for prizes.<br />\n<br />\n$30 Entry Fee<br />\n<br />\nDonuts &amp\; Coffee provided by Dunkin&rsquo\; Donuts<br />\n<br />\nPoker Stops:<br />\n&bull\; Wollersheim Distillery<br />\n&bull\; Vintage Brewing Company<br />\n&bull\; Dorf Haus<br />\n&bull\; Schoepp&rsquo\;s Resort<br />\n&bull\; Sunset Harbor Bar &amp\; Grill<br />\n<br />\nHELP US GET OUR VETERANS ON THESE FLIGHTS IN 2018<br />\nSeptember 22<br />\nOctober 12<br />\nNovember 3<br />\nwww.badgerhonorflight.org
LOCATION:
UID:e.1184.20971
SEQUENCE:3
DTSTAMP:20260424T050743Z
URL:http://members.saukprairie.com/events/details/tractor-h-o-g-poker-run-20971
END:VEVENT

END:VCALENDAR
