BEGIN:VCALENDAR
VERSION:2.0
PRODID:-//ChamberMaster//Event Calendar 2.0//EN
METHOD:PUBLISH
X-PUBLISHED-TTL:P3D
REFRESH-INTERVAL:P3D
CALSCALE:GREGORIAN
BEGIN:VEVENT
DTSTART:20171123T170000Z
DTEND:20171123T200000Z
X-MICROSOFT-CDO-ALLDAYEVENT:FALSE
SUMMARY:Traditional Thanksgiving Buffet
DESCRIPTION:Join Us For our Traditional\n\nThanksgiving Buffet\n\nServing from 11am-2pm\n\n \n\nRoast Turkey\, Baked Chicken\, Honey Glazed Ham\, Mashed Potatoes\, Dressing\,\n\nSweet Potatoes\, Glazed Carrots\, Peppered Corn\,  Cranberries\, Salad Bar\, Dinner Rolls\, Pumpkin Pie or Ice Cream\n\n \n\nAdults - $17.75\n\nChildren  - $6.50 (5-12)\n\nTots - $3.00 (4 & under)\n\n \n\n\nWe are happy to continue our tradition to donate 15 percent of the proceeds from this Thanksgiving Day buffet to The Pancreatic Cancer Action Network in memory of our beautiful mother\, Betty Maier.  She decided she wanted to do this the year she was diagnosed\, 2009.  She was a 3 year survivor.
X-ALT-DESC;FMTTYPE=text/html:<div align="center" style="padding: 0px\; margin: 0px\; color: rgb(255\, 255\, 255)\; font-family: Arial\, Helvetica\, sans-serif\; font-size: 12px\; background-color: rgb(0\, 0\, 0)\;"><span style="padding: 0px\; margin: 0px\; font-size: 18pt\; background: none !important\;"><strong style="padding: 0px\; margin: 0px\;">Join Us For our Traditional</strong></span></div>\n\n<div align="center" style="padding: 0px\; margin: 0px\; color: rgb(255\, 255\, 255)\; font-family: Arial\, Helvetica\, sans-serif\; font-size: 12px\; background-color: rgb(0\, 0\, 0)\;"><span style="padding: 0px\; margin: 0px\; font-size: 18pt\; background: none !important\;"><strong style="padding: 0px\; margin: 0px\;">Thanksgiving Buffet</strong></span></div>\n\n<div align="center" style="padding: 0px\; margin: 0px\; color: rgb(255\, 255\, 255)\; font-family: Arial\, Helvetica\, sans-serif\; background-color: rgb(0\, 0\, 0)\; font-size: 14pt\;">Serving&nbsp\;from 11am-2pm</div>\n\n<div align="center" style="padding: 0px\; margin: 0px\; color: rgb(255\, 255\, 255)\; font-family: Arial\, Helvetica\, sans-serif\; background-color: rgb(0\, 0\, 0)\; font-size: 14pt\;">&nbsp\;</div>\n\n<div align="center" style="padding: 0px\; margin: 0px\; color: rgb(255\, 255\, 255)\; font-family: Arial\, Helvetica\, sans-serif\; background-color: rgb(0\, 0\, 0)\; font-size: 14pt\;">Roast Turkey\, Baked Chicken\, Honey Glazed Ham\,&nbsp\;Mashed Potatoes\, Dressing\,</div>\n\n<div align="center" style="padding: 0px\; margin: 0px\; color: rgb(255\, 255\, 255)\; font-family: Arial\, Helvetica\, sans-serif\; font-size: 12px\; background-color: rgb(0\, 0\, 0)\;"><span style="padding: 0px\; margin: 0px\; font-size: 14pt\; background: none !important\;">Sweet Potatoes\, Glazed Carrots\, Peppered Corn\, &nbsp\;Cranberries\, Salad Bar\, Dinner Rolls\, Pumpkin Pie or Ice Cream</span></div>\n\n<div style="padding: 0px\; margin: 0px\; color: rgb(255\, 255\, 255)\; font-family: Arial\, Helvetica\, sans-serif\; font-size: 12px\; background-color: rgb(0\, 0\, 0)\;">&nbsp\;</div>\n\n<div align="center" style="padding: 0px\; margin: 0px\; color: rgb(255\, 255\, 255)\; font-family: Arial\, Helvetica\, sans-serif\; background-color: rgb(0\, 0\, 0)\; font-size: 14pt\;">Adults - $17.75</div>\n\n<div align="center" style="padding: 0px\; margin: 0px\; color: rgb(255\, 255\, 255)\; font-family: Arial\, Helvetica\, sans-serif\; background-color: rgb(0\, 0\, 0)\; font-size: 14pt\;">Children&nbsp\; - $6.50 (5-12)</div>\n\n<div align="center" style="padding: 0px\; margin: 0px\; color: rgb(255\, 255\, 255)\; font-family: Arial\, Helvetica\, sans-serif\; background-color: rgb(0\, 0\, 0)\; font-size: 14pt\;">Tots - $3.00 (4 &amp\; under)</div>\n\n<div style="padding: 0px\; margin: 0px\; color: rgb(255\, 255\, 255)\; font-family: Arial\, Helvetica\, sans-serif\; font-size: 12px\; background-color: rgb(0\, 0\, 0)\;">&nbsp\;</div>\n\n<div style="padding: 0px\; margin: 0px\; color: rgb(255\, 255\, 255)\; font-family: Arial\, Helvetica\, sans-serif\; font-size: 12px\; background-color: rgb(0\, 0\, 0)\;">\n<p align="center" style="padding: 0px\; margin: 0in 0in 0pt\; line-height: normal\;"><span style="padding: 0px\; margin: 0px\; background: none !important\; color: black\; font-family: &quot\;Times New Roman&quot\;\, serif\;"><span style="padding: 0px\; margin: 0px\; background: none !important\; color: rgb(255\, 255\, 255) !important\; font-size: 14pt\;">We are&nbsp\;happy to&nbsp\;continue our tradition to donate 15 percent of the proceeds from&nbsp\;this Thanksgiving Day buffet to The Pancreatic Cancer Action Network in memory of our beautiful mother\, Betty Maier.&nbsp\;&nbsp\;She decided she wanted to do this the year she was&nbsp\;diagnosed\, 2009.&nbsp\;&nbsp\;She was a 3 year survivor.&nbsp\;</span>&nbsp\;<span style="padding: 0px\; margin: 0px\; background: none !important\; color: rgb(255\, 255\, 255) !important\;">&nbsp\;</span></span></p>\n</div>\n
LOCATION:Dorf Haus
UID:e.1184.14106
SEQUENCE:3
DTSTAMP:20260424T221933Z
URL:http://members.saukprairie.com/events/details/traditional-thanksgiving-buffet-14106
END:VEVENT

END:VCALENDAR
