BEGIN:VCALENDAR
VERSION:2.0
PRODID:-//ChamberMaster//Event Calendar 2.0//EN
METHOD:PUBLISH
X-PUBLISHED-TTL:P3D
REFRESH-INTERVAL:P3D
CALSCALE:GREGORIAN
BEGIN:VEVENT
DTSTART:20191112T143000Z
DTEND:20191112T160000Z
X-MICROSOFT-CDO-ALLDAYEVENT:FALSE
SUMMARY:Training: 2020 hiring trends or labor market trends
DESCRIPTION:The QTI Group just completed its annual Human Resources Trends Survey\, which collects data on talent attraction and retention strategies\, compensation and benefit plans\, diversity and inclusion programs and more from hundreds of WI-based employers. Come and learn how organizations are optimizing HR strategies to succeed in today's environment.
X-ALT-DESC;FMTTYPE=text/html:The QTI Group just completed its annual Human Resources Trends Survey\, which collects data on talent attraction and retention strategies\, compensation and benefit plans\, diversity and inclusion programs and more from hundreds of WI-based employers. Come and learn how organizations are optimizing HR strategies to succeed in today&#39\;s environment.&nbsp\;
LOCATION:Compeer Financial 1430 North Ridge Dr.
UID:e.1184.23593
SEQUENCE:3
DTSTAMP:20260423T095643Z
URL:http://members.saukprairie.com/events/details/training-2020-hiring-trends-or-labor-market-trends-23593
END:VEVENT

END:VCALENDAR
