BEGIN:VCALENDAR
VERSION:2.0
PRODID:-//ChamberMaster//Event Calendar 2.0//EN
METHOD:PUBLISH
X-PUBLISHED-TTL:P3D
REFRESH-INTERVAL:P3D
CALSCALE:GREGORIAN
BEGIN:VEVENT
DTSTART:20190312T133000Z
DTEND:20190312T150000Z
X-MICROSOFT-CDO-ALLDAYEVENT:FALSE
SUMMARY:Training: Communicate Courageously
DESCRIPTION:Clear communication is the most important key to a business leader's success.\n	In this interactive program\, communications expert Keri Olson will explore ways to help you become a more effective\, professionaland tactful communicator.\n	Keri will have softcover sopies of her latest book\, "Find Your Hear\, Follow Your Heart: Get to the Hear of What Matters and Create Your Abundant\, Authentic\, Joyful Life\," available for sale that day - $11.99
X-ALT-DESC;FMTTYPE=text/html:<ul>\n	<li>Clear communication is the most important key to a business leader&#39\;s success.</li>\n	<li>In this interactive program\, communications expert Keri Olson will explore ways to help you become a more effective\, professionaland tactful communicator.</li>\n	<li>Keri will have softcover sopies of her latest book\, &quot\;Find Your Hear\, Follow Your Heart: Get to the Hear of What Matters and Create Your Abundant\, Authentic\, Joyful Life\,&quot\; available for sale that day - $11.99</li>\n</ul>\n
LOCATION:Schwarz Insurance 1420 North Ridge Dr.
UID:e.1184.21998
SEQUENCE:3
DTSTAMP:20260423T200705Z
URL:http://members.saukprairie.com/events/details/training-communicate-courageously-21998
END:VEVENT

END:VCALENDAR
