BEGIN:VCALENDAR
VERSION:2.0
PRODID:-//ChamberMaster//Event Calendar 2.0//EN
METHOD:PUBLISH
X-PUBLISHED-TTL:P3D
REFRESH-INTERVAL:P3D
CALSCALE:GREGORIAN
BEGIN:VEVENT
DTSTART:20190814T133000Z
DTEND:20190814T150000Z
X-MICROSOFT-CDO-ALLDAYEVENT:FALSE
SUMMARY:Training: Thinking on your Feet
DESCRIPTION:THINKING ON YOUR FEET (How to handle stressful situations within a moment's notice)\n\n\n\npresented by Meg Sage w/Sauk County 4-H Positive Development Educator\n\n\n\nWe have all been caught off guard and have to speak with zero preparation. You're asked for your opinion in a heated meeting. Without any notice\, you are asked to introduce someone in a group setting\, or say "just a few words".\n\nYou will learn tips to help you:\n\n\n\n  How to keep your cool and overcome nervousness\n\n  How to quickly organize your thoughts and cover everything you intended\n\n  Learn to make an intelligent conversation when truly\, you don't know what to say\n\n  How to respond gracefully and make a great impression\n\n  How to keep your cool and respond appropriately to sensitive situations.
X-ALT-DESC;FMTTYPE=text/html:THINKING ON YOUR FEET (How to handle stressful situations within a moment&rsquo\;s notice)<br />\n<br />\npresented by Meg Sage w/Sauk County 4-H Positive Development Educator<br />\n<br />\nWe have all been caught off guard and have to speak with zero preparation. You&rsquo\;re asked for your opinion in a heated meeting. Without any notice\, you are asked to introduce someone in a group setting\, or say &ldquo\;just a few words&rdquo\;.<br />\nYou will learn tips to help you:<br />\n<br />\n&bull\; How to keep your cool and overcome nervousness<br />\n&bull\; How to quickly organize your thoughts and cover everything you intended<br />\n&bull\; Learn to make an intelligent conversation when truly\, you don&rsquo\;t know what to say<br />\n&bull\; How to respond gracefully and make a great impression<br />\n&bull\; How to keep your cool and respond appropriately to sensitive situations.<br />\n&nbsp\;
LOCATION:Schwarz Insurance 1420 North Ridge Dr.
UID:e.1184.22642
SEQUENCE:3
DTSTAMP:20260423T124111Z
URL:http://members.saukprairie.com/events/details/training-thinking-on-your-feet-22642
END:VEVENT

END:VCALENDAR
