BEGIN:VCALENDAR
VERSION:2.0
PRODID:-//ChamberMaster//Event Calendar 2.0//EN
METHOD:PUBLISH
X-PUBLISHED-TTL:P3D
REFRESH-INTERVAL:P3D
CALSCALE:GREGORIAN
BEGIN:VEVENT
DTSTART;VALUE=DATE:20221014
DTEND;VALUE=DATE:20221015
TRANSP:TRANSPARENT
X-MICROSOFT-CDO-ALLDAYEVENT:TRUE
SUMMARY:Trevor Stephenson fortepiano
DESCRIPTION:Trevor Stephenson\n\nfortepiano\n\nMusic by Mozart\, Haydn\, Beethoven & Schubert\n\n\n\nOctober 14\, 2022 Friday\, 7 pm\n\nPark Hall 307 Polk St Sauk City\, Wisconsin\n\n\n\nAdmission $25 - Limited seating Tickets: in advance email trevor@trevorstephenson.com\n\nAnd at the door information at trevorstephenson.com
X-ALT-DESC;FMTTYPE=text/html:Trevor Stephenson<br />\n<em>fortepiano</em><br />\nMusic by Mozart\, Haydn\, Beethoven &amp\; Schubert<br />\n<br />\nOctober 14\, 2022&mdash\;Friday\, 7 pm<br />\nPark Hall&mdash\;307 Polk St&mdash\;Sauk City\, Wisconsin<br />\n<br />\nAdmission $25 - Limited seating Tickets: in advance&mdash\;email trevor@trevorstephenson.com<br />\nAnd at the door information at <a href="https://trevorstephenson.com/">trevorstephenson.com</a>
LOCATION:
UID:e.1184.28735
SEQUENCE:3
DTSTAMP:20260421T045937Z
URL:http://members.saukprairie.com/events/details/trevor-stephenson-fortepiano-28735
END:VEVENT

END:VCALENDAR
