BEGIN:VCALENDAR
VERSION:2.0
PRODID:-//ChamberMaster//Event Calendar 2.0//EN
METHOD:PUBLISH
X-PUBLISHED-TTL:P3D
REFRESH-INTERVAL:P3D
CALSCALE:GREGORIAN
BEGIN:VEVENT
DTSTART:20050930T201600Z
DTEND:20050930T201600Z
X-MICROSOFT-CDO-ALLDAYEVENT:FALSE
SUMMARY:Trick-Or-Treat On Water Street 2005
DESCRIPTION:
X-ALT-DESC;FMTTYPE=text/html:
LOCATION:
UID:e.1184.2
SEQUENCE:3
DTSTAMP:20260425T000752Z
URL:http://members.saukprairie.com/events/details/trick-or-treat-on-water-street-2005-09-30-2005-2
END:VEVENT

END:VCALENDAR
