BEGIN:VCALENDAR
VERSION:2.0
PRODID:-//ChamberMaster//Event Calendar 2.0//EN
METHOD:PUBLISH
X-PUBLISHED-TTL:P3D
REFRESH-INTERVAL:P3D
CALSCALE:GREGORIAN
BEGIN:VEVENT
DTSTART:20211102T190000Z
DTEND:20211102T203000Z
X-MICROSOFT-CDO-ALLDAYEVENT:FALSE
SUMMARY:Triple P - Parenting Teens
DESCRIPTION:Triple P: Positive Parenting Program seminars will provide parents of teenagers with a toolbox of strategies. Parents will learn how to raise confident and healthy children\, build strong family relationships\, manage misbehavior\, and prevent problems from happening in the first place. Parents of teenagers will have seminars and group discussion that focus on the developmental needs of growing independence. Parents will look at raising responsible\, competent teens and helping them get connected while also teaching them how to cooperate\, learning to cope with a teens emotions and building skills to reduce family conflict.
X-ALT-DESC;FMTTYPE=text/html:Triple P: Positive Parenting Program seminars will provide parents of teenagers with a toolbox of strategies. Parents will learn how to raise confident and healthy children\, build strong family relationships\, manage misbehavior\, and prevent problems from happening in the first place. Parents of teenagers will have seminars and group discussion that focus on the developmental needs of growing independence. Parents will look at raising responsible\, competent teens and helping them get connected while also teaching them how to cooperate\, learning to cope with a teens emotions and building skills to reduce family conflict.
LOCATION:These sessions will be offered via live Zoom meetings
UID:e.1184.26874
SEQUENCE:3
DTSTAMP:20260421T202921Z
URL:http://members.saukprairie.com/events/details/triple-p-parenting-teens-11-02-2021-26874
END:VEVENT

END:VCALENDAR
