BEGIN:VCALENDAR
VERSION:2.0
PRODID:-//ChamberMaster//Event Calendar 2.0//EN
METHOD:PUBLISH
X-PUBLISHED-TTL:P3D
REFRESH-INTERVAL:P3D
CALSCALE:GREGORIAN
BEGIN:VEVENT
DTSTART:20240327T230000Z
DTEND:20240328T020000Z
X-MICROSOFT-CDO-ALLDAYEVENT:FALSE
SUMMARY:Trivia at Vintage!
DESCRIPTION:Trivia at Vintage Brewing Co. Sauk Prairie \n\nWednesday\, March 27\, 2024 6pm-9pm\n\n\n\nTrivia with Premier Trivia starts at 6pm
X-ALT-DESC;FMTTYPE=text/html:Trivia at Vintage Brewing Co. Sauk Prairie&nbsp\;<br />\nWednesday\, March 27\, 2024 6pm-9pm<br />\n<br />\nTrivia with Premier Trivia starts at 6pm
LOCATION:Vintage Brewing Co. Sauk Prairie
UID:e.1184.31555
SEQUENCE:3
DTSTAMP:20260420T003348Z
URL:http://members.saukprairie.com/events/details/trivia-at-vintage-31555
END:VEVENT

END:VCALENDAR
