BEGIN:VCALENDAR
VERSION:2.0
PRODID:-//ChamberMaster//Event Calendar 2.0//EN
METHOD:PUBLISH
X-PUBLISHED-TTL:P3D
REFRESH-INTERVAL:P3D
CALSCALE:GREGORIAN
BEGIN:VEVENT
DTSTART:20240625T223000Z
DTEND:20240626T013000Z
X-MICROSOFT-CDO-ALLDAYEVENT:FALSE
SUMMARY:Truck'in Good Food at June Tunes
DESCRIPTION:Wyttenbach's Command Center Food Truck will be serving up burgers\, fried and much more each Tuesday Night during June Tunes.\n\n\n\nEach week we will have burgers\, cheeseburgers\, grilled cheese\, French fries plus a special.\n\nTreat yourself to a meal in the peaceful setting of Meyer Oak Park with an added bonus of a free concert.
X-ALT-DESC;FMTTYPE=text/html:Wyttenbach&#39\;s Command Center Food Truck will be serving up burgers\, fried and much more each Tuesday Night during June Tunes.<br />\n<br />\nEach week we will have burgers\, cheeseburgers\, grilled cheese\, French fries plus a special.<br />\nTreat yourself to a meal in the peaceful setting of Meyer Oak Park with an added bonus of a free concert.
LOCATION:Meyer Oak Park\, Sauk City
UID:e.1184.32412
SEQUENCE:3
DTSTAMP:20260419T205547Z
URL:http://members.saukprairie.com/events/details/truck-in-good-food-at-june-tunes-06-25-2024-32412
END:VEVENT

END:VCALENDAR
