BEGIN:VCALENDAR
VERSION:2.0
PRODID:-//ChamberMaster//Event Calendar 2.0//EN
METHOD:PUBLISH
X-PUBLISHED-TTL:P3D
REFRESH-INTERVAL:P3D
CALSCALE:GREGORIAN
BEGIN:VEVENT
DTSTART:20230613T213000Z
DTEND:20230614T010000Z
X-MICROSOFT-CDO-ALLDAYEVENT:FALSE
SUMMARY:Truck'in Good Food at June Tunes
DESCRIPTION:Wyttenbach's Command Center Food Truck at June Tunes\, Meyer Oak Park\, Sauk City\n\nBurgers\, Cheeseburgers\, Grilled Cheese\, Fries and much more.\n\nNew this year -- Soft Serve Cones
X-ALT-DESC;FMTTYPE=text/html:Wyttenbach&#39\;s Command Center Food Truck at June Tunes\, Meyer Oak Park\, Sauk City<br />\nBurgers\, Cheeseburgers\, Grilled Cheese\, Fries and much more.<br />\nNew this year -- Soft Serve Cones
LOCATION:June Tunes Meyer Grove Oak Park\, Sauk City
UID:e.1184.30852
SEQUENCE:3
DTSTAMP:20260420T120446Z
URL:http://members.saukprairie.com/events/details/truck-in-good-food-at-june-tunes-30852
END:VEVENT

END:VCALENDAR
