BEGIN:VCALENDAR
VERSION:2.0
PRODID:-//ChamberMaster//Event Calendar 2.0//EN
METHOD:PUBLISH
X-PUBLISHED-TTL:P3D
REFRESH-INTERVAL:P3D
CALSCALE:GREGORIAN
BEGIN:VEVENT
DTSTART:20241026T200000Z
DTEND:20241026T220000Z
X-MICROSOFT-CDO-ALLDAYEVENT:FALSE
SUMMARY:Trunk of Treat 2024 Sauk City
DESCRIPTION:Trunk or Treat 2024 @ 1111 Sycamore Street in Sauk City
X-ALT-DESC;FMTTYPE=text/html:Trunk or Treat 2024 @ 1111 Sycamore Street in Sauk City
LOCATION:
UID:e.1184.33487
SEQUENCE:3
DTSTAMP:20260419T161100Z
URL:http://members.saukprairie.com/events/details/trunk-of-treat-2024-sauk-city-33487
END:VEVENT

END:VCALENDAR
