BEGIN:VCALENDAR
VERSION:2.0
PRODID:-//ChamberMaster//Event Calendar 2.0//EN
METHOD:PUBLISH
X-PUBLISHED-TTL:P3D
REFRESH-INTERVAL:P3D
CALSCALE:GREGORIAN
BEGIN:VEVENT
DTSTART:20181026T230000Z
DTEND:20181027T010000Z
X-MICROSOFT-CDO-ALLDAYEVENT:FALSE
SUMMARY:Trunk of Treat
DESCRIPTION:Trunk of Treat\n\n	Face painting\n	cotton candy\n	wear costumes\n	everyone welcome\n	learn more about Girl Scouts\n	free trick-or-treating\n	canned food donation welcome for Sauk Prairie Area Food Pantry
X-ALT-DESC;FMTTYPE=text/html:Trunk of Treat\n<ul>\n	<li>Face painting</li>\n	<li>cotton candy</li>\n	<li>wear costumes</li>\n	<li>everyone welcome</li>\n	<li>learn more about Girl Scouts</li>\n	<li>free trick-or-treating</li>\n	<li>canned food donation welcome for Sauk Prairie Area Food Pantry</li>\n</ul>\n
LOCATION:Jaycee Athletic Park 305 Hemlock St.\, Sauk City
UID:e.1184.20981
SEQUENCE:3
DTSTAMP:20260424T034037Z
URL:http://members.saukprairie.com/events/details/trunk-of-treat-20981
END:VEVENT

END:VCALENDAR
