BEGIN:VCALENDAR
VERSION:2.0
PRODID:-//ChamberMaster//Event Calendar 2.0//EN
METHOD:PUBLISH
X-PUBLISHED-TTL:P3D
REFRESH-INTERVAL:P3D
CALSCALE:GREGORIAN
BEGIN:VEVENT
DTSTART:20231028T210000Z
DTEND:20231028T230000Z
X-MICROSOFT-CDO-ALLDAYEVENT:FALSE
SUMMARY:Trunk or Treat
DESCRIPTION:4th Annual Trunk or Treat! This event is free to the community\, put on by the Girls Scouts of Sauk Prairie\, Boy Scouts will also be there and have a brat stand. \n\n\n\nCome join in the fun for games and treats!\n\n\n\nPlease contact Carri Dorr at 643-2224 for more information.
X-ALT-DESC;FMTTYPE=text/html:4th Annual Trunk or Treat! This event is free to the community\, put on by the Girls Scouts of Sauk Prairie\, Boy Scouts will also be there and have a brat stand.&nbsp\;<br />\n<br />\nCome join in the fun for games and treats!<br />\n<br />\nPlease contact Carri Dorr at 643-2224 for more information.
LOCATION:River Hills Church
UID:e.1184.31178
SEQUENCE:3
DTSTAMP:20260420T073502Z
URL:http://members.saukprairie.com/events/details/trunk-or-treat-31178
END:VEVENT

END:VCALENDAR
