BEGIN:VCALENDAR
VERSION:2.0
PRODID:-//ChamberMaster//Event Calendar 2.0//EN
METHOD:PUBLISH
X-PUBLISHED-TTL:P3D
REFRESH-INTERVAL:P3D
CALSCALE:GREGORIAN
BEGIN:VEVENT
DTSTART:20200714T230000Z
DTEND:20200715T020000Z
X-MICROSOFT-CDO-ALLDAYEVENT:FALSE
SUMMARY:Tuesday Cruiseday Car Show
DESCRIPTION:Stop by the All Stop Travel Plaza (Mobil Station) at Highway 60 and I-90/94 in Lodi for the Tuesday Cruiseday Car Show.  From 6:00pm - 9:00pm on Tuesdays through the end of August\, Tuesday Cruiseday features cool cars\, hot food\, prize drawings every hour\, and live entertainment!
X-ALT-DESC;FMTTYPE=text/html:Stop by the All Stop Travel Plaza (Mobil Station) at Highway 60 and I-90/94 in Lodi for the Tuesday Cruiseday Car Show.&nbsp\; From 6:00pm - 9:00pm on Tuesdays through the end of August\, Tuesday Cruiseday features cool cars\, hot food\, prize drawings every hour\, and live entertainment!
LOCATION:All Stop Travel Plaza at the intersection of Highway 60 and I-90/94 in Lodi.
UID:e.1184.26030
SEQUENCE:3
DTSTAMP:20260422T225027Z
URL:http://members.saukprairie.com/events/details/tuesday-cruiseday-car-show-07-14-2020-26030
END:VEVENT

END:VCALENDAR
