BEGIN:VCALENDAR
VERSION:2.0
PRODID:-//ChamberMaster//Event Calendar 2.0//EN
METHOD:PUBLISH
X-PUBLISHED-TTL:P3D
REFRESH-INTERVAL:P3D
CALSCALE:GREGORIAN
BEGIN:VEVENT
DTSTART:20190801T230000Z
DTEND:20190802T020000Z
X-MICROSOFT-CDO-ALLDAYEVENT:FALSE
SUMMARY:Twang Dragons - Live Music on the Deck every Thursday!
DESCRIPTION:Awesome Acoustic Duo playing on the deck! Drink Specials\, great draft beer selection\, homemade deep dish pizza served until 10PM! No Cover Fee!
X-ALT-DESC;FMTTYPE=text/html:Awesome Acoustic Duo playing on the deck! Drink Specials\, great draft beer selection\, homemade deep dish pizza served until 10PM! No Cover Fee!
LOCATION:
UID:e.1184.22701
SEQUENCE:3
DTSTAMP:20260423T124412Z
URL:http://members.saukprairie.com/events/details/twang-dragons-live-music-on-the-deck-22701
END:VEVENT

END:VCALENDAR
