BEGIN:VCALENDAR
VERSION:2.0
PRODID:-//ChamberMaster//Event Calendar 2.0//EN
METHOD:PUBLISH
X-PUBLISHED-TTL:P3D
REFRESH-INTERVAL:P3D
CALSCALE:GREGORIAN
BEGIN:VEVENT
DTSTART:20241126T223000Z
DTEND:20241126T233000Z
X-MICROSOFT-CDO-ALLDAYEVENT:FALSE
SUMMARY:Tween Sharpie Tie-Dye Art
DESCRIPTION:Unleash your creativity at our exciting Sharpie Tie-Dye workshop! Join us for a fun-filled session where you'll use Sharpies and rubbing alcohol to create stunning\, vibrant art on canvas.\n\nRegistration is required\; call or visit the library to sign up. Geared for ages 8-12.
X-ALT-DESC;FMTTYPE=text/html:Unleash your creativity at our exciting Sharpie Tie-Dye workshop! Join us for a fun-filled session where you&#39\;ll use Sharpies and rubbing alcohol to create stunning\, vibrant art on canvas.<br />\nRegistration is required\; call or visit the library to sign up. Geared for ages 8-12.
LOCATION:615 Phillips Blvd. Sauk City\, WI 53583
UID:e.1184.34523
SEQUENCE:3
DTSTAMP:20260419T130734Z
URL:http://members.saukprairie.com/events/details/tween-sharpie-tie-dye-art-34523
END:VEVENT

END:VCALENDAR
