BEGIN:VCALENDAR
VERSION:2.0
PRODID:-//ChamberMaster//Event Calendar 2.0//EN
METHOD:PUBLISH
X-PUBLISHED-TTL:P3D
REFRESH-INTERVAL:P3D
CALSCALE:GREGORIAN
BEGIN:VEVENT
DTSTART;VALUE=DATE:20180727
DTEND;VALUE=DATE:20180730
TRANSP:TRANSPARENT
X-MICROSOFT-CDO-ALLDAYEVENT:TRUE
SUMMARY:Twelve Angry Jurors
DESCRIPTION:Sauk Prairie Theare Guild Presents a Midstage Theatre Troupe's 2018 Production\n\n\n\nReginald Rose's \n\nEmmy award-winning classic drama\n\nTwelve Angry Jurors\n\nAdapted by Sherman Sergel\n\n\n\nPerformances: \n\nJuly 27 & 28 at 7pm\n\nJuly 29 at 2pm\n\n\n\nRiver Arts Center\, 105 Ninth St.\, Prairie du Sac\n\n\n\nTickets available online at: www.sptheatreguild.org\n\nAdvance tickets: $10 adults/$8 Students\n\nTickets at the Door: $12 adults/$10 students
X-ALT-DESC;FMTTYPE=text/html:Sauk Prairie Theare Guild Presents a Midstage Theatre Troupe&#39\;s 2018 Production<br />\n<br />\nReginald Rose&#39\;s&nbsp\;<br />\nEmmy award-winning classic drama<br />\nTwelve Angry Jurors<br />\nAdapted by Sherman Sergel<br />\n<br />\nPerformances:&nbsp\;<br />\nJuly 27 &amp\; 28 at 7pm<br />\nJuly 29 at 2pm<br />\n<br />\nRiver Arts Center\, 105 Ninth St.\, Prairie du Sac<br />\n<br />\nTickets available online at: www.sptheatreguild.org<br />\nAdvance tickets: $10 adults/$8 Students<br />\nTickets at the Door: $12 adults/$10 students
LOCATION:
UID:e.1184.20476
SEQUENCE:3
DTSTAMP:20260424T082606Z
URL:http://members.saukprairie.com/events/details/twelve-angry-jurors-20476
END:VEVENT

END:VCALENDAR
