BEGIN:VCALENDAR
VERSION:2.0
PRODID:-//ChamberMaster//Event Calendar 2.0//EN
METHOD:PUBLISH
X-PUBLISHED-TTL:P3D
REFRESH-INTERVAL:P3D
CALSCALE:GREGORIAN
BEGIN:VEVENT
DTSTART:20190910T233000Z
DTEND:20190911T003000Z
X-MICROSOFT-CDO-ALLDAYEVENT:FALSE
SUMMARY:UFOs of Wisconsin
DESCRIPTION:Come and join Chad Lewis\, paranormal researcher extraordinaire\, to learn more about the UFOs spotted in Wisconsin.
X-ALT-DESC;FMTTYPE=text/html:Come and join Chad Lewis\, paranormal researcher extraordinaire\, to learn more about the UFOs spotted in Wisconsin.
LOCATION:515 Water Street Sauk City\, WI 53583
UID:e.1184.22730
SEQUENCE:3
DTSTAMP:20260423T113506Z
URL:http://members.saukprairie.com/events/details/ufos-of-wisconsin-22730
END:VEVENT

END:VCALENDAR
