BEGIN:VCALENDAR
VERSION:2.0
PRODID:-//ChamberMaster//Event Calendar 2.0//EN
METHOD:PUBLISH
X-PUBLISHED-TTL:P3D
REFRESH-INTERVAL:P3D
CALSCALE:GREGORIAN
BEGIN:VEVENT
DTSTART;VALUE=DATE:20221116
DTEND;VALUE=DATE:20221120
TRANSP:TRANSPARENT
X-MICROSOFT-CDO-ALLDAYEVENT:TRUE
SUMMARY:Unfolded Clothing and Home 1 Year Anniversary Specials
DESCRIPTION:Unfolded Clothing and Home 1 year Anniversary Specials from November 16th-19th.\n\n\n\n Daily specials include:\n\n	Wednesday- Wink Wednesday earring sale\n	Thursday- thirsty Thursday Camp Cocktail sale\n	Friday - Denim Sale\n	Saturday - First 10 in get 10% off Sale
X-ALT-DESC;FMTTYPE=text/html:<span style="color:rgb(68\, 68\, 68)\; font-family:calibri\,sans-serif\; font-size:14px"><span style="font-size:11pt">Unfolded Clothing and Home 1 year Anniversary Specials from November 16th-19th.</span></span><br />\n<br />\n<span style="color:rgb(68\, 68\, 68)\; font-family:arial\,helvetica\,sans-serif\; font-size:14px">&nbsp\;Daily specials include:</span>\n<ul>\n	<li>Wednesday- Wink Wednesday earring sale</li>\n	<li>Thursday- thirsty Thursday Camp Cocktail sale</li>\n	<li>Friday - Denim Sale</li>\n	<li>Saturday - First 10 in get 10% off Sale</li>\n</ul>\n
LOCATION:Unfolded 422 Water Street Prairie du Sac\, WI 53578
UID:e.1184.28770
SEQUENCE:3
DTSTAMP:20260421T021244Z
URL:http://members.saukprairie.com/events/details/unfolded-clothing-and-home-1-year-anniversary-specials-28770
END:VEVENT

END:VCALENDAR
