BEGIN:VCALENDAR
VERSION:2.0
PRODID:-//ChamberMaster//Event Calendar 2.0//EN
METHOD:PUBLISH
X-PUBLISHED-TTL:P3D
REFRESH-INTERVAL:P3D
CALSCALE:GREGORIAN
BEGIN:VEVENT
DTSTART:20231001T000000Z
DTEND:20231001T020000Z
X-MICROSOFT-CDO-ALLDAYEVENT:FALSE
SUMMARY:Uptown: Motown Remixed
DESCRIPTION:September 30th\, 2023 Uptown: Motown Remixed will perform at River Arts Center from 7-9pm on the main stage.\n\n\n\nDirect from NYC\, the epicenter of contemporary pop and soul\, and with humble beginnings in Harlem\, Uptown is a group of young men who combine the smooth stylings of old-school R&B with today's hits. An Uptown show exudes freshness and fun in a way all ages enjoy. Backed by a tight three-piece band\, this trio of young Temptations\, with moves like the Jackson 5 and the energy of Bruno Mars\, offers a performance with modern style and irresistible swagger. Witness classics like "My Girl\," "I Want You Back\," and "Uptown Funk\," all reimagined with youthful passion and exuberance.\n\n"Uptown's fresh interpretation is a testimony to the genius of the producers\, writers\, and artists of years gone by." Rick Sheppard (the Drifters)
X-ALT-DESC;FMTTYPE=text/html:<div>September 30th\, 2023 Uptown: Motown Remixed will perform at River Arts Center from 7-9pm on the main stage.<br />\n<br />\nDirect from NYC\, the epicenter of contemporary pop and soul\, and with humble beginnings in Harlem\, Uptown is a group of young men who combine the smooth stylings of old-school R&amp\;B with today&rsquo\;s hits. An Uptown show exudes freshness and fun in a way all ages enjoy. Backed by a tight three-piece band\, this trio of young Temptations\, with moves like the Jackson 5 and the energy of Bruno Mars\, offers a performance with modern style and irresistible swagger. Witness classics like &ldquo\;My Girl\,&rdquo\; &ldquo\;I Want You Back\,&rdquo\; and &ldquo\;Uptown Funk\,&rdquo\; all reimagined with youthful passion and exuberance.</div>\n\n<div>&ldquo\;Uptown&rsquo\;s fresh interpretation is a testimony to the genius of the producers\, writers\, and artists of years gone by.&rdquo\; Rick Sheppard (the Drifters)</div>\n
LOCATION:Sauk Prairie's River Art Center 105 9th Street Prairie du Sac\, WI 53578
UID:e.1184.31034
SEQUENCE:3
DTSTAMP:20260420T074006Z
URL:http://members.saukprairie.com/events/details/uptown-motown-remixed-31034
END:VEVENT

END:VCALENDAR
