BEGIN:VCALENDAR
VERSION:2.0
PRODID:-//ChamberMaster//Event Calendar 2.0//EN
METHOD:PUBLISH
X-PUBLISHED-TTL:P3D
REFRESH-INTERVAL:P3D
CALSCALE:GREGORIAN
BEGIN:VEVENT
DTSTART:20180207T000000Z
DTEND:20180207T020000Z
X-MICROSOFT-CDO-ALLDAYEVENT:FALSE
SUMMARY:Valentine Card Making Class
DESCRIPTION:During this 2 hour workshop with Jamie Statz-Paynter of Stampin' Up!\, craft your love with paper and create 4 handmade cards. Please register at the library by calling 608-643-8346 to secure your spot.
X-ALT-DESC;FMTTYPE=text/html:<span style="background-color:transparent\; color:rgb(0\, 0\, 0)\; font-family:arial\; font-size:11pt">During this 2 hour workshop with Jamie Statz-Paynter of Stampin&#39\; Up!\, craft your love with paper and create 4 handmade cards. Please register at the library by calling 608-643-8346 to secure your spot.</span>
LOCATION:
UID:e.1184.14612
SEQUENCE:3
DTSTAMP:20260424T161415Z
URL:http://members.saukprairie.com/events/details/valentine-card-making-class-14612
END:VEVENT

END:VCALENDAR
