BEGIN:VCALENDAR
VERSION:2.0
PRODID:-//ChamberMaster//Event Calendar 2.0//EN
METHOD:PUBLISH
X-PUBLISHED-TTL:P3D
REFRESH-INTERVAL:P3D
CALSCALE:GREGORIAN
BEGIN:VEVENT
DTSTART:20230201T220000Z
DTEND:20230201T230000Z
X-MICROSOFT-CDO-ALLDAYEVENT:FALSE
SUMMARY:Valentine Makerspace for Kids
DESCRIPTION:Get ready for Valentine's Day at the Ruth Culver Community Library! We'll have a variety of crafting materials out and a few project ideas to share. Kids can come use the materials to make Valentine cards and more! For grades K-5. Ages 6 and under must be accompanied by an adult. No registration required unless you want to receive an email reminder.
X-ALT-DESC;FMTTYPE=text/html:<span style="font-family:roboto\,sans-serif\; font-size:16px">Get ready for Valentine&#39\;s Day at the Ruth Culver Community Library! We&rsquo\;ll have a variety of crafting materials out and a few project ideas to share. Kids can come use the materials to make Valentine cards and more! For grades K-5. Ages 6 and under must be accompanied by an adult. No registration required unless you want to receive an email reminder.</span>
LOCATION:Ruth Culver Community Library 540 Water Street\, Prairie du Sac
UID:e.1184.29891
SEQUENCE:3
DTSTAMP:20260420T180304Z
URL:http://members.saukprairie.com/events/details/valentine-makerspace-for-kids-29891
END:VEVENT

END:VCALENDAR
